BEGIN:VCALENDAR
VERSION:2.0
PRODID:-//Altes Rathaus Kaarst - ECPv6.15.20//NONSGML v1.0//EN
CALSCALE:GREGORIAN
METHOD:PUBLISH
X-ORIGINAL-URL:http://www.altesrathaus-kaarst.de/wordpress
X-WR-CALDESC:Veranstaltungen für Altes Rathaus Kaarst
REFRESH-INTERVAL;VALUE=DURATION:PT1H
X-Robots-Tag:noindex
X-PUBLISHED-TTL:PT1H
BEGIN:VTIMEZONE
TZID:Europe/Berlin
BEGIN:DAYLIGHT
TZOFFSETFROM:+0100
TZOFFSETTO:+0200
TZNAME:CEST
DTSTART:20240331T010000
END:DAYLIGHT
BEGIN:STANDARD
TZOFFSETFROM:+0200
TZOFFSETTO:+0100
TZNAME:CET
DTSTART:20241027T010000
END:STANDARD
BEGIN:DAYLIGHT
TZOFFSETFROM:+0100
TZOFFSETTO:+0200
TZNAME:CEST
DTSTART:20250330T010000
END:DAYLIGHT
BEGIN:STANDARD
TZOFFSETFROM:+0200
TZOFFSETTO:+0100
TZNAME:CET
DTSTART:20251026T010000
END:STANDARD
BEGIN:DAYLIGHT
TZOFFSETFROM:+0100
TZOFFSETTO:+0200
TZNAME:CEST
DTSTART:20260329T010000
END:DAYLIGHT
BEGIN:STANDARD
TZOFFSETFROM:+0200
TZOFFSETTO:+0100
TZNAME:CET
DTSTART:20261025T010000
END:STANDARD
END:VTIMEZONE
BEGIN:VEVENT
DTSTART;VALUE=DATE:20250315
DTEND;VALUE=DATE:20250316
DTSTAMP:20260420T171205
CREATED:20250109T194546Z
LAST-MODIFIED:20251208T182709Z
UID:2118-1741996800-1742083199@www.altesrathaus-kaarst.de
SUMMARY:2000er Party
DESCRIPTION:
URL:http://www.altesrathaus-kaarst.de/wordpress/event/2000er-party/
LOCATION:Altes Rathaus Kaarst\, Rathausstr. 3\, Kaarst\, 41564
CATEGORIES:Events
ATTACH;FMTTYPE=image/png:http://www.altesrathaus-kaarst.de/wordpress/wp-content/uploads/2025/01/2000er2025.png
ORGANIZER;CN="Altes Rathaus Kaarst":MAILTO:info@altesrathauskaarst.de
END:VEVENT
BEGIN:VEVENT
DTSTART;TZID=Europe/Berlin:20250315T200000
DTEND;TZID=Europe/Berlin:20250315T200000
DTSTAMP:20260420T171205
CREATED:20250312T175557Z
LAST-MODIFIED:20251208T182709Z
UID:2270-1742068800-1742068800@www.altesrathaus-kaarst.de
SUMMARY:90er Party
DESCRIPTION:90er-Party in Kaarst – Sei dabei! \n\n\nAm Samstag\, 15. März 2025 ab 20 Uhr verwandelt sich das Alte Rathaus in die ultimative 90s-Partyzone! \n\n\n Unser DJ bringt euch den besten Sound der 90er zurück – von Dance bis Pop\, von Hip-Hop bis Eurodance!\n\n\n Dresscode: Je bunter\, desto besser! Zeigt eure coolsten 90s-Outfits! \n\n\n Tickets: Jetzt im VVK sichern oder an der Abendkasse (nur begrenzte Anzahl!).\n\n\n Let’s go back to the 90s! Wir freuen uns auf euch!\n\n\n #altesrathauskaarst #kaarst #90erparty #throwback #letsdance
URL:http://www.altesrathaus-kaarst.de/wordpress/event/90er-party/
LOCATION:Altes Rathaus Kaarst\, Rathausstr. 3\, Kaarst\, 41564
CATEGORIES:Events
ATTACH;FMTTYPE=image/jpeg:http://www.altesrathaus-kaarst.de/wordpress/wp-content/uploads/2025/01/90s2025.jpg
ORGANIZER;CN="Altes Rathaus Kaarst":MAILTO:info@altesrathauskaarst.de
END:VEVENT
END:VCALENDAR