BEGIN:VCALENDAR
VERSION:2.0
PRODID:-//Altes Rathaus Kaarst - ECPv6.15.20//NONSGML v1.0//EN
CALSCALE:GREGORIAN
METHOD:PUBLISH
X-WR-CALNAME:Altes Rathaus Kaarst
X-ORIGINAL-URL:http://www.altesrathaus-kaarst.de/wordpress
X-WR-CALDESC:Veranstaltungen für Altes Rathaus Kaarst
REFRESH-INTERVAL;VALUE=DURATION:PT1H
X-Robots-Tag:noindex
X-PUBLISHED-TTL:PT1H
BEGIN:VTIMEZONE
TZID:Europe/Berlin
BEGIN:DAYLIGHT
TZOFFSETFROM:+0100
TZOFFSETTO:+0200
TZNAME:CEST
DTSTART:20240331T010000
END:DAYLIGHT
BEGIN:STANDARD
TZOFFSETFROM:+0200
TZOFFSETTO:+0100
TZNAME:CET
DTSTART:20241027T010000
END:STANDARD
BEGIN:DAYLIGHT
TZOFFSETFROM:+0100
TZOFFSETTO:+0200
TZNAME:CEST
DTSTART:20250330T010000
END:DAYLIGHT
BEGIN:STANDARD
TZOFFSETFROM:+0200
TZOFFSETTO:+0100
TZNAME:CET
DTSTART:20251026T010000
END:STANDARD
BEGIN:DAYLIGHT
TZOFFSETFROM:+0100
TZOFFSETTO:+0200
TZNAME:CEST
DTSTART:20260329T010000
END:DAYLIGHT
BEGIN:STANDARD
TZOFFSETFROM:+0200
TZOFFSETTO:+0100
TZNAME:CET
DTSTART:20261025T010000
END:STANDARD
END:VTIMEZONE
BEGIN:VEVENT
DTSTART;TZID=Europe/Berlin:20251121T190000
DTEND;TZID=Europe/Berlin:20251121T190000
DTSTAMP:20260419T230747
CREATED:20251109T181820Z
LAST-MODIFIED:20251208T182646Z
UID:2499-1763751600-1763751600@www.altesrathaus-kaarst.de
SUMMARY:White Shark Café | Live im Herzen von Kaarst
DESCRIPTION:Live im Alten Rathaus Kaarst! \n\n\n\nAm Freitag\, den 21.11.2025\, wird’s wieder laut\, groovig und voller Energie: WHITE SHARK CAFÉ rocken die Bühne im Herzen von Kaarst! \n\n\nErlebt mitreißende Gitarrenriffs\, satte Bässe und eine Stimmung\, die euch garantiert nicht stillstehen lässt.\n\nKommt vorbei\, bringt eure Freunde mit und genießt einen unvergesslichen Live-Abend in gemütlicher Atmosphäre! \n\n\n\n Ort: Altes Rathaus\, Rathausstr. 3\, 41564 Kaarst\n Beginn: 19:00 Uhr\n Eintritt: Frei!\n Mehr Infos: altesrathaus-kaarst.de\n\n @altesrathauskaarst |  /altes.rathaus.16\n\n\n#AltesRathausKaarst #LiveFreitag #WhiteSharkCafe #KaarstLive #Livemusik #FreierEintritt #Rocknight
URL:http://www.altesrathaus-kaarst.de/wordpress/event/white-shark-cafe-live-im-herzen-von-kaarst/
LOCATION:Altes Rathaus Kaarst\, Rathausstr. 3\, Kaarst\, 41564
CATEGORIES:Events
ATTACH;FMTTYPE=image/png:http://www.altesrathaus-kaarst.de/wordpress/wp-content/uploads/2025/11/WhiteSharkCafe.png
ORGANIZER;CN="Altes Rathaus Kaarst":MAILTO:info@altesrathauskaarst.de
END:VEVENT
END:VCALENDAR