BEGIN:VCALENDAR
VERSION:2.0
PRODID:-//Altes Rathaus Kaarst - ECPv6.15.20//NONSGML v1.0//EN
CALSCALE:GREGORIAN
METHOD:PUBLISH
X-WR-CALNAME:Altes Rathaus Kaarst
X-ORIGINAL-URL:http://www.altesrathaus-kaarst.de/wordpress
X-WR-CALDESC:Veranstaltungen für Altes Rathaus Kaarst
REFRESH-INTERVAL;VALUE=DURATION:PT1H
X-Robots-Tag:noindex
X-PUBLISHED-TTL:PT1H
BEGIN:VTIMEZONE
TZID:Europe/Berlin
BEGIN:DAYLIGHT
TZOFFSETFROM:+0100
TZOFFSETTO:+0200
TZNAME:CEST
DTSTART:20240331T010000
END:DAYLIGHT
BEGIN:STANDARD
TZOFFSETFROM:+0200
TZOFFSETTO:+0100
TZNAME:CET
DTSTART:20241027T010000
END:STANDARD
BEGIN:DAYLIGHT
TZOFFSETFROM:+0100
TZOFFSETTO:+0200
TZNAME:CEST
DTSTART:20250330T010000
END:DAYLIGHT
BEGIN:STANDARD
TZOFFSETFROM:+0200
TZOFFSETTO:+0100
TZNAME:CET
DTSTART:20251026T010000
END:STANDARD
BEGIN:DAYLIGHT
TZOFFSETFROM:+0100
TZOFFSETTO:+0200
TZNAME:CEST
DTSTART:20260329T010000
END:DAYLIGHT
BEGIN:STANDARD
TZOFFSETFROM:+0200
TZOFFSETTO:+0100
TZNAME:CET
DTSTART:20261025T010000
END:STANDARD
END:VTIMEZONE
BEGIN:VEVENT
DTSTART;VALUE=DATE:20251212
DTEND;VALUE=DATE:20251215
DTSTAMP:20260419T212704
CREATED:20250109T210149Z
LAST-MODIFIED:20251208T182646Z
UID:2244-1765497600-1765756799@www.altesrathaus-kaarst.de
SUMMARY:Kaarster Sternstunden
DESCRIPTION:✨ Sternstunden Kaarst 2025 – Wir sehen uns vom 12.–14. Dezember! ✨ \nDie Kaarster Innenstadt verwandelt sich auch dieses Jahr wieder in ein funkelndes Winterwunderland!Freut euch auf ein neues Bühnenprogramm\, weihnachtliche Leckereien\, gemütliche Hütten\, stimmungsvolle Musik und viele kleine Highlights\, die euch in Weihnachtslaune bringen. \n🎄 Eisstockschießen – neu in diesem Jahr!🎅 Verkaufsoffener Sonntag von 13–18 Uhr🌟 Magische Atmosphäre für die ganze Familie\n📅 12.–14. Dezember 2025 \nFreitag: 16–22 UhrSamstag: 11–22 UhrSonntag: 11–19 Uhr \nKommt vorbei\, stöbert\, genießt und lasst euch verzaubern – wir freuen uns auf euch! 💙✨Mehr Infos: www.sternstundenkaarst.de
URL:http://www.altesrathaus-kaarst.de/wordpress/event/kaarster-sternstunden/
LOCATION:Kaarst\, Germany
CATEGORIES:Events
ATTACH;FMTTYPE=image/png:http://www.altesrathaus-kaarst.de/wordpress/wp-content/uploads/2025/01/Sternstunden2025.png
ORGANIZER;CN="Altes Rathaus Kaarst":MAILTO:info@altesrathauskaarst.de
END:VEVENT
END:VCALENDAR