BEGIN:VCALENDAR
VERSION:2.0
PRODID:-//Altes Rathaus Kaarst - ECPv6.15.20//NONSGML v1.0//EN
CALSCALE:GREGORIAN
METHOD:PUBLISH
X-WR-CALNAME:Altes Rathaus Kaarst
X-ORIGINAL-URL:http://www.altesrathaus-kaarst.de/wordpress
X-WR-CALDESC:Veranstaltungen für Altes Rathaus Kaarst
REFRESH-INTERVAL;VALUE=DURATION:PT1H
X-Robots-Tag:noindex
X-PUBLISHED-TTL:PT1H
BEGIN:VTIMEZONE
TZID:Europe/Berlin
BEGIN:DAYLIGHT
TZOFFSETFROM:+0100
TZOFFSETTO:+0200
TZNAME:CEST
DTSTART:20250330T010000
END:DAYLIGHT
BEGIN:STANDARD
TZOFFSETFROM:+0200
TZOFFSETTO:+0100
TZNAME:CET
DTSTART:20251026T010000
END:STANDARD
BEGIN:DAYLIGHT
TZOFFSETFROM:+0100
TZOFFSETTO:+0200
TZNAME:CEST
DTSTART:20260329T010000
END:DAYLIGHT
BEGIN:STANDARD
TZOFFSETFROM:+0200
TZOFFSETTO:+0100
TZNAME:CET
DTSTART:20261025T010000
END:STANDARD
BEGIN:DAYLIGHT
TZOFFSETFROM:+0100
TZOFFSETTO:+0200
TZNAME:CEST
DTSTART:20270328T010000
END:DAYLIGHT
BEGIN:STANDARD
TZOFFSETFROM:+0200
TZOFFSETTO:+0100
TZNAME:CET
DTSTART:20271031T010000
END:STANDARD
END:VTIMEZONE
BEGIN:VEVENT
DTSTART;VALUE=DATE:20260208
DTEND;VALUE=DATE:20260209
DTSTAMP:20260419T181046
CREATED:20251204T182624Z
LAST-MODIFIED:20260108T194723Z
UID:2590-1770508800-1770595199@www.altesrathaus-kaarst.de
SUMMARY:Kinderkarneval im Herzen von Kaarst
DESCRIPTION:🎉🐯 Der Kinder-Karnevalsspaß im Herzen von Kaarst! 🐰🎭 \nAm Sonntag\, 8. Februar 2026\, verwandelt sich das Alte Rathaus in eine bunte Karnevalswelt nur für Kinder! 🎊✨ \nHier stehen Spaß\, Lachen und gute Laune im Mittelpunkt – ein fröhlicher Nachmittag\, den kleine Prinzessinnen\, Superhelden\, Tiere und Fantasiefiguren so schnell nicht vergessen werden. 👑🦸‍♂️🦄 \n🎈 Zieht eure schönsten\, lustigsten oder verrücktesten Kostüme an und feiert gemeinsam mit vielen anderen Kindern ein kunterbuntes Karnevalsfest! Es wird getanzt\, gelacht und ausgelassen gefeiert – genau so\, wie Karneval sein soll. 💃🕺 \nFreut euch auf eine tolle Atmosphäre\, fröhliche Musik und jede Menge Karnevalsspaß für Groß und Klein! 🎶🎉 \n🎭 Beginn: 14:00 Uhr\n🕝 Einlass: ab 13:30 Uhr \nKommt vorbei\, bringt eure Freunde mit und erlebt einen Nachmittag voller Freude\, Spiel und Karnevalszauber! 💖🎈\nWir freuen uns riesig auf euch! 🥳🎊 \nEuer Altes Rathaus Team \n#kaarstfeiert #kinderkarneval #karneval
URL:http://www.altesrathaus-kaarst.de/wordpress/event/kinderkarneval-im-herzen-von-kaarst/
LOCATION:Altes Rathaus Kaarst\, Rathausstr. 3\, Kaarst\, 41564
CATEGORIES:Events
ATTACH;FMTTYPE=image/jpeg:http://www.altesrathaus-kaarst.de/wordpress/wp-content/uploads/2025/12/Flyer_Kinderkarneval_2026_Web-scaled.jpg
ORGANIZER;CN="Altes Rathaus Kaarst":MAILTO:info@altesrathauskaarst.de
END:VEVENT
END:VCALENDAR