BEGIN:VCALENDAR
VERSION:2.0
PRODID:-//Altes Rathaus Kaarst - ECPv6.15.20//NONSGML v1.0//EN
CALSCALE:GREGORIAN
METHOD:PUBLISH
X-ORIGINAL-URL:http://www.altesrathaus-kaarst.de/wordpress
X-WR-CALDESC:Veranstaltungen für Altes Rathaus Kaarst
REFRESH-INTERVAL;VALUE=DURATION:PT1H
X-Robots-Tag:noindex
X-PUBLISHED-TTL:PT1H
BEGIN:VTIMEZONE
TZID:Europe/Berlin
BEGIN:DAYLIGHT
TZOFFSETFROM:+0100
TZOFFSETTO:+0200
TZNAME:CEST
DTSTART:20250330T010000
END:DAYLIGHT
BEGIN:STANDARD
TZOFFSETFROM:+0200
TZOFFSETTO:+0100
TZNAME:CET
DTSTART:20251026T010000
END:STANDARD
BEGIN:DAYLIGHT
TZOFFSETFROM:+0100
TZOFFSETTO:+0200
TZNAME:CEST
DTSTART:20260329T010000
END:DAYLIGHT
BEGIN:STANDARD
TZOFFSETFROM:+0200
TZOFFSETTO:+0100
TZNAME:CET
DTSTART:20261025T010000
END:STANDARD
BEGIN:DAYLIGHT
TZOFFSETFROM:+0100
TZOFFSETTO:+0200
TZNAME:CEST
DTSTART:20270328T010000
END:DAYLIGHT
BEGIN:STANDARD
TZOFFSETFROM:+0200
TZOFFSETTO:+0100
TZNAME:CET
DTSTART:20271031T010000
END:STANDARD
END:VTIMEZONE
BEGIN:VEVENT
DTSTART;VALUE=DATE:20260409
DTEND;VALUE=DATE:20260410
DTSTAMP:20260419T144840
CREATED:20250317T185945Z
LAST-MODIFIED:20260326T184100Z
UID:2279-1775692800-1775779199@www.altesrathaus-kaarst.de
SUMMARY:Das große 90er/2000er Quiz
DESCRIPTION:🎤📀 Back to the 90s & 2000s – Quizabend im Alten Rathaus Kaarst! 🎮📺 \nSeid ihr bereit für eine Zeitreise? Am 09. April 2026 testen wir euer Wissen über die legendären 90er & 2000er Jahre! Von Boybands bis Tamagotchis\, von Friends bis Harry Potter – wer kennt sich am besten aus? 🤩🎶 \n📍 Wo? Altes Rathaus\, Kaarst⏰ Wann? 19:00 Uhr \nSchnappt euch eure Freunde und sichert euch den Quiz-Thron! 🏆 Jetzt anmelden & dabei sein! 🔥 \n#Quizabend #90er #2000er #Nostalgie #Kaarst
URL:http://www.altesrathaus-kaarst.de/wordpress/event/das-grosse-90er-2000er-quiz/
LOCATION:Altes Rathaus Kaarst\, Rathausstr. 3\, Kaarst\, 41564
CATEGORIES:Events
ATTACH;FMTTYPE=image/png:http://www.altesrathaus-kaarst.de/wordpress/wp-content/uploads/2025/03/90er2000erQuiz2026.png
ORGANIZER;CN="Altes Rathaus Kaarst":MAILTO:info@altesrathauskaarst.de
END:VEVENT
END:VCALENDAR