BEGIN:VCALENDAR
VERSION:2.0
PRODID:-//Altes Rathaus Kaarst - ECPv6.15.20//NONSGML v1.0//EN
CALSCALE:GREGORIAN
METHOD:PUBLISH
X-WR-CALNAME:Altes Rathaus Kaarst
X-ORIGINAL-URL:http://www.altesrathaus-kaarst.de/wordpress
X-WR-CALDESC:Veranstaltungen für Altes Rathaus Kaarst
REFRESH-INTERVAL;VALUE=DURATION:PT1H
X-Robots-Tag:noindex
X-PUBLISHED-TTL:PT1H
BEGIN:VTIMEZONE
TZID:Europe/Berlin
BEGIN:DAYLIGHT
TZOFFSETFROM:+0100
TZOFFSETTO:+0200
TZNAME:CEST
DTSTART:20250330T010000
END:DAYLIGHT
BEGIN:STANDARD
TZOFFSETFROM:+0200
TZOFFSETTO:+0100
TZNAME:CET
DTSTART:20251026T010000
END:STANDARD
BEGIN:DAYLIGHT
TZOFFSETFROM:+0100
TZOFFSETTO:+0200
TZNAME:CEST
DTSTART:20260329T010000
END:DAYLIGHT
BEGIN:STANDARD
TZOFFSETFROM:+0200
TZOFFSETTO:+0100
TZNAME:CET
DTSTART:20261025T010000
END:STANDARD
BEGIN:DAYLIGHT
TZOFFSETFROM:+0100
TZOFFSETTO:+0200
TZNAME:CEST
DTSTART:20270328T010000
END:DAYLIGHT
BEGIN:STANDARD
TZOFFSETFROM:+0200
TZOFFSETTO:+0100
TZNAME:CET
DTSTART:20271031T010000
END:STANDARD
END:VTIMEZONE
BEGIN:VEVENT
DTSTART;VALUE=DATE:20260611
DTEND;VALUE=DATE:20260720
DTSTAMP:20260419T175513
CREATED:20180103T171032Z
LAST-MODIFIED:20251208T182546Z
UID:899-1781136000-1784505599@www.altesrathaus-kaarst.de
SUMMARY:Fußball-WM 2026 in Kanada\, Mexiko und den USA
DESCRIPTION:Fussball-WM 2026\nPublic Viewing im Herzen von Kaarst! \nDie Endrunde der 23. Fußball-Weltmeisterschaft vom 11. Juni bis 19. Juli 2026 in Kanada\, Mexiko und den USA \n• LED-TV‘s\n• Großbild-Leinwand\n• Indoor & Outdoor Bereiche\n• Eintritt frei \nWir übertragen auch alle weiteren Spiele der WM LIVE.\nFeiert mit uns! \nWir freuen uns auf Euch.\nEuer Altes Rathaus Team.
URL:http://www.altesrathaus-kaarst.de/wordpress/event/fussball-wm-2018-in-russland/
LOCATION:Altes Rathaus Kaarst\, Rathausstr. 3\, Kaarst\, 41564
CATEGORIES:Events
ATTACH;FMTTYPE=image/jpeg:http://www.altesrathaus-kaarst.de/wordpress/wp-content/uploads/2018/01/wm2026.jpeg
END:VEVENT
BEGIN:VEVENT
DTSTART;VALUE=DATE:20260613
DTEND;VALUE=DATE:20260617
DTSTAMP:20260419T175513
CREATED:20161228T182440Z
LAST-MODIFIED:20251208T182546Z
UID:445-1781308800-1781654399@www.altesrathaus-kaarst.de
SUMMARY:Schützenfest in Kaarst
DESCRIPTION:Wir begrüßen die Kaarster Schützen!\nSchützenfest 2026 im Herzen von Kaarst! \nWir feiern mit Euch am FREITAG\,\nab 20 UHR und freiem Eintritt\nNatürlich inklusive tanzbare Musik und DJ mit den besten Kaarster Gästen und Schützen!\nEinlass ab 18 Jahren\nWir haben am SAMSTAG\, SONNTAG und MONTAG\nbereits ab 9 UHR geöffnet! \nUnser riesen Biergarten ist natürlich die ganze Zeit geöffnet!\nWir freuen uns auf Euch.\nEuer Altes Rathaus Team.
URL:http://www.altesrathaus-kaarst.de/wordpress/event/schuetzenfest-in-kaarst-2017/
LOCATION:Altes Rathaus Kaarst\, Rathausstr. 3\, Kaarst\, 41564
CATEGORIES:Events
ATTACH;FMTTYPE=image/jpeg:http://www.altesrathaus-kaarst.de/wordpress/wp-content/uploads/2016/12/Flyer_Schuetzen_2026_kalender.jpg
ORGANIZER;CN="Altes Rathaus Kaarst":MAILTO:info@altesrathauskaarst.de
END:VEVENT
END:VCALENDAR