BEGIN:VCALENDAR
VERSION:2.0
PRODID:-//Altes Rathaus Kaarst - ECPv6.15.20//NONSGML v1.0//EN
CALSCALE:GREGORIAN
METHOD:PUBLISH
X-ORIGINAL-URL:http://www.altesrathaus-kaarst.de/wordpress
X-WR-CALDESC:Veranstaltungen für Altes Rathaus Kaarst
REFRESH-INTERVAL;VALUE=DURATION:PT1H
X-Robots-Tag:noindex
X-PUBLISHED-TTL:PT1H
BEGIN:VTIMEZONE
TZID:Europe/Berlin
BEGIN:DAYLIGHT
TZOFFSETFROM:+0100
TZOFFSETTO:+0200
TZNAME:CEST
DTSTART:20250330T010000
END:DAYLIGHT
BEGIN:STANDARD
TZOFFSETFROM:+0200
TZOFFSETTO:+0100
TZNAME:CET
DTSTART:20251026T010000
END:STANDARD
BEGIN:DAYLIGHT
TZOFFSETFROM:+0100
TZOFFSETTO:+0200
TZNAME:CEST
DTSTART:20260329T010000
END:DAYLIGHT
BEGIN:STANDARD
TZOFFSETFROM:+0200
TZOFFSETTO:+0100
TZNAME:CET
DTSTART:20261025T010000
END:STANDARD
BEGIN:DAYLIGHT
TZOFFSETFROM:+0100
TZOFFSETTO:+0200
TZNAME:CEST
DTSTART:20270328T010000
END:DAYLIGHT
BEGIN:STANDARD
TZOFFSETFROM:+0200
TZOFFSETTO:+0100
TZNAME:CET
DTSTART:20271031T010000
END:STANDARD
END:VTIMEZONE
BEGIN:VEVENT
DTSTART;VALUE=DATE:20260803
DTEND;VALUE=DATE:20260804
DTSTAMP:20260419T205758
CREATED:20250503T191526Z
LAST-MODIFIED:20251208T182546Z
UID:2305-1785715200-1785801599@www.altesrathaus-kaarst.de
SUMMARY:Karaokeabend - Open Mic
DESCRIPTION:Karaoke-Party im Alten Rathaus Kaarst! \n\n\n\n Wann? Jeden ersten Montag im Monat\n Ab 19 Uhr\n Wo? Altes Rathaus\, Kaarst\n\n\n\nMach dich bereit für einen unvergesslichen Abend voller Musik\, Spaß und guter Laune!  Egal ob Jung oder Alt\, Anfänger oder Profi – bei uns darf jeder ans Mikro. Wähle deinen Lieblingssong aus allen Genres und zeig uns\, was du drauf hast! \n\n\n\nLass uns gemeinsam singen\, tanzen und feiern! \nEintritt frei – wir freuen uns auf euch! \n\n\n\n#altesrathauskaarst #kaarst #imherzenvonkaarst #karaoke #karaokeparty
URL:http://www.altesrathaus-kaarst.de/wordpress/event/karaokeabend-open-mic/
LOCATION:Altes Rathaus Kaarst\, Rathausstr. 3\, Kaarst\, 41564
CATEGORIES:Events
ATTACH;FMTTYPE=image/jpeg:http://www.altesrathaus-kaarst.de/wordpress/wp-content/uploads/2025/05/AR_Karaokeabend_Monatlich_Web.jpg
ORGANIZER;CN="Altes Rathaus Kaarst":MAILTO:info@altesrathauskaarst.de
END:VEVENT
END:VCALENDAR