BEGIN:VCALENDAR
VERSION:2.0
PRODID:-//Altes Rathaus Kaarst - ECPv6.15.20//NONSGML v1.0//EN
CALSCALE:GREGORIAN
METHOD:PUBLISH
X-WR-CALNAME:Altes Rathaus Kaarst
X-ORIGINAL-URL:http://www.altesrathaus-kaarst.de/wordpress
X-WR-CALDESC:Veranstaltungen für Altes Rathaus Kaarst
REFRESH-INTERVAL;VALUE=DURATION:PT1H
X-Robots-Tag:noindex
X-PUBLISHED-TTL:PT1H
BEGIN:VTIMEZONE
TZID:Europe/Berlin
BEGIN:DAYLIGHT
TZOFFSETFROM:+0100
TZOFFSETTO:+0200
TZNAME:CEST
DTSTART:20250330T010000
END:DAYLIGHT
BEGIN:STANDARD
TZOFFSETFROM:+0200
TZOFFSETTO:+0100
TZNAME:CET
DTSTART:20251026T010000
END:STANDARD
BEGIN:DAYLIGHT
TZOFFSETFROM:+0100
TZOFFSETTO:+0200
TZNAME:CEST
DTSTART:20260329T010000
END:DAYLIGHT
BEGIN:STANDARD
TZOFFSETFROM:+0200
TZOFFSETTO:+0100
TZNAME:CET
DTSTART:20261025T010000
END:STANDARD
BEGIN:DAYLIGHT
TZOFFSETFROM:+0100
TZOFFSETTO:+0200
TZNAME:CEST
DTSTART:20270328T010000
END:DAYLIGHT
BEGIN:STANDARD
TZOFFSETFROM:+0200
TZOFFSETTO:+0100
TZNAME:CET
DTSTART:20271031T010000
END:STANDARD
END:VTIMEZONE
BEGIN:VEVENT
DTSTART;VALUE=DATE:20260816
DTEND;VALUE=DATE:20260817
DTSTAMP:20260419T205400
CREATED:20240507T173917Z
LAST-MODIFIED:20251208T182546Z
UID:2022-1786838400-1786924799@www.altesrathaus-kaarst.de
SUMMARY:Sommerfest der Senioreninitiative Kaarst
DESCRIPTION:Die Senioren Initiative Kaarst e.V. präsentiert das große Sommerfest im Herzen von Kaarst.\n\nWo? Natürlich im Alten Rathaus auf der Rathausstraße 3.\nEin tolles Programm erwartet alle Kaarster am 16.8. ab 15 Uhr. Wir bringen jedes Alter zusammen\, genießt ein buntes und fröhliches Fest auf unserer großen Außenterrasse.\nMit Live-Musik von ARnB\, einer Hüpfburg für Kinder\, sowie eine große Getränkeauswahl inkl. Grillstand und unserem Foodstop.\nEin Besuch lohnt sich.\nWir freuen uns auf euch.\nEuer Altes-Rathaus-Team.\n\n#kaarst #altesrathauskaarst #imherzenvonkaarst #sommerfest #senioreninitiativekaarst
URL:http://www.altesrathaus-kaarst.de/wordpress/event/sommerfest-der-senioreninitiative-kaarst/
LOCATION:Altes Rathaus Kaarst\, Rathausstr. 3\, Kaarst\, 41564
CATEGORIES:Events
END:VEVENT
END:VCALENDAR