BEGIN:VCALENDAR
VERSION:2.0
PRODID:-//Altes Rathaus Kaarst - ECPv6.15.20//NONSGML v1.0//EN
CALSCALE:GREGORIAN
METHOD:PUBLISH
X-ORIGINAL-URL:http://www.altesrathaus-kaarst.de/wordpress
X-WR-CALDESC:Veranstaltungen für Altes Rathaus Kaarst
REFRESH-INTERVAL;VALUE=DURATION:PT1H
X-Robots-Tag:noindex
X-PUBLISHED-TTL:PT1H
BEGIN:VTIMEZONE
TZID:Europe/Berlin
BEGIN:DAYLIGHT
TZOFFSETFROM:+0100
TZOFFSETTO:+0200
TZNAME:CEST
DTSTART:20250330T010000
END:DAYLIGHT
BEGIN:STANDARD
TZOFFSETFROM:+0200
TZOFFSETTO:+0100
TZNAME:CET
DTSTART:20251026T010000
END:STANDARD
BEGIN:DAYLIGHT
TZOFFSETFROM:+0100
TZOFFSETTO:+0200
TZNAME:CEST
DTSTART:20260329T010000
END:DAYLIGHT
BEGIN:STANDARD
TZOFFSETFROM:+0200
TZOFFSETTO:+0100
TZNAME:CET
DTSTART:20261025T010000
END:STANDARD
BEGIN:DAYLIGHT
TZOFFSETFROM:+0100
TZOFFSETTO:+0200
TZNAME:CEST
DTSTART:20270328T010000
END:DAYLIGHT
BEGIN:STANDARD
TZOFFSETFROM:+0200
TZOFFSETTO:+0100
TZNAME:CET
DTSTART:20271031T010000
END:STANDARD
END:VTIMEZONE
BEGIN:VEVENT
DTSTART;VALUE=DATE:20261031
DTEND;VALUE=DATE:20261101
DTSTAMP:20260420T003240
CREATED:20161228T184504Z
LAST-MODIFIED:20251208T182545Z
UID:449-1793404800-1793491199@www.altesrathaus-kaarst.de
SUMMARY:Halloween Party
DESCRIPTION:Es wird wieder einmal gruselig im Alten Rathaus!\nWir starten um 19 Uhr und freuen uns auf viele gruselige Kostüme! \nLasst mit uns im Herzen von Kaarst Eure Knochen tanzen und besucht am 31. Oktober das Alte Rathaus. Ab 19 Uhr öffnen wir unsere Pforten zur Partygruft. Es erwartet Euch eine tolle schaurige Stimmung. \nWir freuen uns auf Euch.\nEuer Altes-Rathaus-Team.
URL:http://www.altesrathaus-kaarst.de/wordpress/event/spooky-halloween-party/
LOCATION:Altes Rathaus Kaarst\, Rathausstr. 3\, Kaarst\, 41564
CATEGORIES:Events
ATTACH;FMTTYPE=image/jpeg:http://www.altesrathaus-kaarst.de/wordpress/wp-content/uploads/2016/12/AR_Flyer_Halloween_Insta-scaled.jpg
ORGANIZER;CN="Altes Rathaus Kaarst":MAILTO:info@altesrathauskaarst.de
END:VEVENT
END:VCALENDAR