BEGIN:VCALENDAR
VERSION:2.0
PRODID:-//Altes Rathaus Kaarst - ECPv6.15.20//NONSGML v1.0//EN
CALSCALE:GREGORIAN
METHOD:PUBLISH
X-ORIGINAL-URL:http://www.altesrathaus-kaarst.de/wordpress
X-WR-CALDESC:Veranstaltungen für Altes Rathaus Kaarst
REFRESH-INTERVAL;VALUE=DURATION:PT1H
X-Robots-Tag:noindex
X-PUBLISHED-TTL:PT1H
BEGIN:VTIMEZONE
TZID:Europe/Berlin
BEGIN:DAYLIGHT
TZOFFSETFROM:+0100
TZOFFSETTO:+0200
TZNAME:CEST
DTSTART:20240331T010000
END:DAYLIGHT
BEGIN:STANDARD
TZOFFSETFROM:+0200
TZOFFSETTO:+0100
TZNAME:CET
DTSTART:20241027T010000
END:STANDARD
BEGIN:DAYLIGHT
TZOFFSETFROM:+0100
TZOFFSETTO:+0200
TZNAME:CEST
DTSTART:20250330T010000
END:DAYLIGHT
BEGIN:STANDARD
TZOFFSETFROM:+0200
TZOFFSETTO:+0100
TZNAME:CET
DTSTART:20251026T010000
END:STANDARD
BEGIN:DAYLIGHT
TZOFFSETFROM:+0100
TZOFFSETTO:+0200
TZNAME:CEST
DTSTART:20260329T010000
END:DAYLIGHT
BEGIN:STANDARD
TZOFFSETFROM:+0200
TZOFFSETTO:+0100
TZNAME:CET
DTSTART:20261025T010000
END:STANDARD
END:VTIMEZONE
BEGIN:VEVENT
DTSTART;TZID=Europe/Berlin:20250504T180000
DTEND;TZID=Europe/Berlin:20250504T180000
DTSTAMP:20260420T074648
CREATED:20180209T173348Z
LAST-MODIFIED:20251208T182709Z
UID:1049-1746381600-1746381600@www.altesrathaus-kaarst.de
SUMMARY:Küppers Spargelessen im Alten Rathaus
DESCRIPTION:KÜPPERS SPARGELESSEN IM ALTEN RATHAUS\nAM BESTEN DIREKT RESERVIEREN!\nDie folgenden Termine stehen zur Auswahl:\nAn den Sonntagen\, 04.05.\, 11.05. und 18.05. jeweils ab 18 Uhr. \nSpeziell für Sie zur Wahl stehen folgende Menüs: \n\nVorspeise: Spargelcremesuppe\nHauptgang: Frischer Küppers-Spargel mit Butter oder Hollandaise\, dazu wahlweise roher oder gekochter Schinken oder Schweineschnitzel.\nDessert: Frische Küppers-Erdbeeren mit köstlichem Vanille-Eis\n\nVoranmeldung erforderlich unter ‭0163/2379397‬ oder bei uns im Lokal! \nWir freuen uns auf Euch!\nEuer Altes-Rathaus-Team
URL:http://www.altesrathaus-kaarst.de/wordpress/event/kueppers-spargelessen-im-alten-rathaus-2/
LOCATION:Altes Rathaus Kaarst\, Rathausstr. 3\, Kaarst\, 41564
CATEGORIES:Events
ATTACH;FMTTYPE=image/png:http://www.altesrathaus-kaarst.de/wordpress/wp-content/uploads/2018/02/Spargel2025.png
ORGANIZER;CN="Altes Rathaus Kaarst":MAILTO:info@altesrathauskaarst.de
END:VEVENT
BEGIN:VEVENT
DTSTART;TZID=Europe/Berlin:20250511T180000
DTEND;TZID=Europe/Berlin:20250511T180000
DTSTAMP:20260420T074648
CREATED:20250317T201539Z
LAST-MODIFIED:20251208T182709Z
UID:2290-1746986400-1746986400@www.altesrathaus-kaarst.de
SUMMARY:Küppers Spargelessen im Alten Rathaus
DESCRIPTION:KÜPPERS SPARGELESSEN IM ALTEN RATHAUS \nAM BESTEN DIREKT RESERVIEREN! \nDie folgenden Termine stehen zur Auswahl:\nAn den Sonntagen\, 04.05.\, 11.05. und 18.05. jeweils ab 18 Uhr. \nSpeziell für Sie zur Wahl stehen folgende Menüs: \n\nVorspeise: Spargelcremesuppe\nHauptgang: Frischer Küppers-Spargel mit Butter oder Hollandaise\, dazu wahlweise roher oder gekochter Schinken oder Schweineschnitzel.\nDessert: Frische Küppers-Erdbeeren mit köstlichem Vanille-Eis\n\nVoranmeldung erforderlich unter 0163/2379397 oder bei uns im Lokal! \nWir freuen uns auf Euch!\nEuer Altes-Rathaus-Team
URL:http://www.altesrathaus-kaarst.de/wordpress/event/kueppers-spargelessen-im-alten-rathaus-3/
LOCATION:Altes Rathaus Kaarst\, Rathausstr. 3\, Kaarst\, 41564
CATEGORIES:Events
ATTACH;FMTTYPE=image/png:http://www.altesrathaus-kaarst.de/wordpress/wp-content/uploads/2018/02/Spargel2025.png
ORGANIZER;CN="Altes Rathaus Kaarst":MAILTO:info@altesrathauskaarst.de
END:VEVENT
BEGIN:VEVENT
DTSTART;VALUE=DATE:20250518
DTEND;VALUE=DATE:20250519
DTSTAMP:20260420T074648
CREATED:20250109T195154Z
LAST-MODIFIED:20251208T182709Z
UID:2128-1747526400-1747612799@www.altesrathaus-kaarst.de
SUMMARY:Benefiztrödelmarkt an der Rathausstraße
DESCRIPTION:🎉 SAVE THE DATE! 🎉 \nAm 18. Mai 2025 findet unser großer Kinder- und Familien-Benefizflohmarkt in Kaarst statt!🕙 Von 10 bis 16 Uhr auf dem neuen St. Martinus Kirchplatz und rund ums Alte Rathaus! \nFreut euch auf:🎨 Kinderschminken🎈 Ballonkünstler🏰 Hüpfburg🎶 Livemusik🍔 Foodmeile \nKommt vorbei\, stöbert\, genießt und unterstützt den guten Zweck! 💛 \n#kaarst #familienflohmarkt #benefiz #kinderfest #altesrathauskaarst
URL:http://www.altesrathaus-kaarst.de/wordpress/event/benefiztroedelmarkt-an-der-rathausstrasse/
LOCATION:Altes Rathaus Kaarst\, Rathausstr. 3\, Kaarst\, 41564
CATEGORIES:Events
ATTACH;FMTTYPE=image/jpeg:http://www.altesrathaus-kaarst.de/wordpress/wp-content/uploads/2025/01/familienflohmarkt_1-scaled.jpg
ORGANIZER;CN="Altes Rathaus Kaarst":MAILTO:info@altesrathauskaarst.de
END:VEVENT
BEGIN:VEVENT
DTSTART;TZID=Europe/Berlin:20250518T180000
DTEND;TZID=Europe/Berlin:20250518T180000
DTSTAMP:20260420T074648
CREATED:20250317T201607Z
LAST-MODIFIED:20251208T182709Z
UID:2292-1747591200-1747591200@www.altesrathaus-kaarst.de
SUMMARY:Küppers Spargelessen im Alten Rathaus
DESCRIPTION:KÜPPERS SPARGELESSEN IM ALTEN RATHAUS \nAM BESTEN DIREKT RESERVIEREN! \nDie folgenden Termine stehen zur Auswahl:\nAn den Sonntagen\, 04.05.\, 11.05. und 18.05. jeweils ab 18 Uhr. \nSpeziell für Sie zur Wahl stehen folgende Menüs: \n\nVorspeise: Spargelcremesuppe\nHauptgang: Frischer Küppers-Spargel mit Butter oder Hollandaise\, dazu wahlweise roher oder gekochter Schinken oder Schweineschnitzel.\nDessert: Frische Küppers-Erdbeeren mit köstlichem Vanille-Eis\n\nVoranmeldung erforderlich unter 0163/2379397 oder bei uns im Lokal! \nWir freuen uns auf Euch!\nEuer Altes-Rathaus-Team
URL:http://www.altesrathaus-kaarst.de/wordpress/event/kueppers-spargelessen-im-alten-rathaus-4/
LOCATION:Altes Rathaus Kaarst\, Rathausstr. 3\, Kaarst\, 41564
CATEGORIES:Events
ATTACH;FMTTYPE=image/png:http://www.altesrathaus-kaarst.de/wordpress/wp-content/uploads/2018/02/Spargel2025.png
ORGANIZER;CN="Altes Rathaus Kaarst":MAILTO:info@altesrathauskaarst.de
END:VEVENT
END:VCALENDAR