BEGIN:VCALENDAR
VERSION:2.0
PRODID:-//Altes Rathaus Kaarst - ECPv6.15.20//NONSGML v1.0//EN
CALSCALE:GREGORIAN
METHOD:PUBLISH
X-ORIGINAL-URL:http://www.altesrathaus-kaarst.de/wordpress
X-WR-CALDESC:Veranstaltungen für Altes Rathaus Kaarst
REFRESH-INTERVAL;VALUE=DURATION:PT1H
X-Robots-Tag:noindex
X-PUBLISHED-TTL:PT1H
BEGIN:VTIMEZONE
TZID:Europe/Berlin
BEGIN:DAYLIGHT
TZOFFSETFROM:+0100
TZOFFSETTO:+0200
TZNAME:CEST
DTSTART:20240331T010000
END:DAYLIGHT
BEGIN:STANDARD
TZOFFSETFROM:+0200
TZOFFSETTO:+0100
TZNAME:CET
DTSTART:20241027T010000
END:STANDARD
BEGIN:DAYLIGHT
TZOFFSETFROM:+0100
TZOFFSETTO:+0200
TZNAME:CEST
DTSTART:20250330T010000
END:DAYLIGHT
BEGIN:STANDARD
TZOFFSETFROM:+0200
TZOFFSETTO:+0100
TZNAME:CET
DTSTART:20251026T010000
END:STANDARD
BEGIN:DAYLIGHT
TZOFFSETFROM:+0100
TZOFFSETTO:+0200
TZNAME:CEST
DTSTART:20260329T010000
END:DAYLIGHT
BEGIN:STANDARD
TZOFFSETFROM:+0200
TZOFFSETTO:+0100
TZNAME:CET
DTSTART:20261025T010000
END:STANDARD
END:VTIMEZONE
BEGIN:VEVENT
DTSTART;TZID=Europe/Berlin:20250814T190000
DTEND;TZID=Europe/Berlin:20250814T190000
DTSTAMP:20260420T023828
CREATED:20250801T180855Z
LAST-MODIFIED:20251208T182646Z
UID:2442-1755198000-1755198000@www.altesrathaus-kaarst.de
SUMMARY:KharlK Herbst-Tour 2025
DESCRIPTION:KharlK live im Alten Rathaus Kaarst! \nDeutsch Pop/Rock vom Feinsten – mit Herz\, Tiefgang und jeder Menge Energie!\n\n Herbst-Tour 2025\n Altes Rathaus Kaarst\n 14.08.2025\n 19 Uhr\nDas charmante Alte Rathaus wird zum Hotspot für Musikliebhaber – wenn KharlK mit seiner einzigartigen Stimme\, ehrlichen Texten und mitreißenden Melodien die Bühne rockt. Ob melancholisch\, laut oder ganz leise – seine Songs treffen mitten ins Herz.\n Eintritt frei\n\n#KharlK #AltesRathausKaarst #DeutschPopRock #HerbstTour2025 #LiveMusik #KaarstEvents #Konzertliebe
URL:http://www.altesrathaus-kaarst.de/wordpress/event/kharlk-herbst-tour-2025/
LOCATION:Altes Rathaus Kaarst\, Rathausstr. 3\, Kaarst\, 41564
CATEGORIES:Events
ATTACH;FMTTYPE=image/jpeg:http://www.altesrathaus-kaarst.de/wordpress/wp-content/uploads/2025/08/AR_Flyer_KharlK.jpg
END:VEVENT
BEGIN:VEVENT
DTSTART;TZID=Europe/Berlin:20250828T190000
DTEND;TZID=Europe/Berlin:20250828T190000
DTSTAMP:20260420T023828
CREATED:20250508T164613Z
LAST-MODIFIED:20251208T182646Z
UID:2331-1756407600-1756407600@www.altesrathaus-kaarst.de
SUMMARY:5 Alive Pop/Rock Cover LIVE in Kaarst
DESCRIPTION:🎶 Live-Musik im Herzen von Kaarst! 🎶 \nAm 28.08.25 heizen 5Alive das Alte Rathaus Kaarst ein!📍 Rathausstr. 3\, 41564 Kaarst🕖 Beginn: 19 Uhr | 🎟️ Eintritt frei \nKommt vorbei und feiert mit uns einen mitreißenden Musikabend! 💃🕺#KaarstLive #AltesRathaus #5Alive #LiveDonnerstag #EintrittFrei
URL:http://www.altesrathaus-kaarst.de/wordpress/event/5-alive-pop-rock-cover-live-in-kaarst/
LOCATION:Altes Rathaus Kaarst\, Rathausstr. 3\, Kaarst\, 41564
CATEGORIES:Events
ATTACH;FMTTYPE=image/jpeg:http://www.altesrathaus-kaarst.de/wordpress/wp-content/uploads/2025/05/AR_Flyer_FiveAlive.jpg
ORGANIZER;CN="Altes Rathaus Kaarst":MAILTO:info@altesrathauskaarst.de
END:VEVENT
END:VCALENDAR