BEGIN:VCALENDAR
VERSION:2.0
PRODID:-//Altes Rathaus Kaarst - ECPv6.15.20//NONSGML v1.0//EN
CALSCALE:GREGORIAN
METHOD:PUBLISH
X-WR-CALNAME:Altes Rathaus Kaarst
X-ORIGINAL-URL:http://www.altesrathaus-kaarst.de/wordpress
X-WR-CALDESC:Veranstaltungen für Altes Rathaus Kaarst
REFRESH-INTERVAL;VALUE=DURATION:PT1H
X-Robots-Tag:noindex
X-PUBLISHED-TTL:PT1H
BEGIN:VTIMEZONE
TZID:Europe/Berlin
BEGIN:DAYLIGHT
TZOFFSETFROM:+0100
TZOFFSETTO:+0200
TZNAME:CEST
DTSTART:20250330T010000
END:DAYLIGHT
BEGIN:STANDARD
TZOFFSETFROM:+0200
TZOFFSETTO:+0100
TZNAME:CET
DTSTART:20251026T010000
END:STANDARD
BEGIN:DAYLIGHT
TZOFFSETFROM:+0100
TZOFFSETTO:+0200
TZNAME:CEST
DTSTART:20260329T010000
END:DAYLIGHT
BEGIN:STANDARD
TZOFFSETFROM:+0200
TZOFFSETTO:+0100
TZNAME:CET
DTSTART:20261025T010000
END:STANDARD
BEGIN:DAYLIGHT
TZOFFSETFROM:+0100
TZOFFSETTO:+0200
TZNAME:CEST
DTSTART:20270328T010000
END:DAYLIGHT
BEGIN:STANDARD
TZOFFSETFROM:+0200
TZOFFSETTO:+0100
TZNAME:CET
DTSTART:20271031T010000
END:STANDARD
END:VTIMEZONE
BEGIN:VEVENT
DTSTART;VALUE=DATE:20260105
DTEND;VALUE=DATE:20260106
DTSTAMP:20260419T181300
CREATED:20250503T192307Z
LAST-MODIFIED:20251208T182645Z
UID:2322-1767571200-1767657599@www.altesrathaus-kaarst.de
SUMMARY:Karaokeabend - Open Mic
DESCRIPTION:Karaoke-Party im Alten Rathaus Kaarst!  \n \n Wann? Jeden ersten Montag im Monat \n Ab 19 Uhr \n Wo? Altes Rathaus\, Kaarst \n \nMach dich bereit für einen unvergesslichen Abend voller Musik\, Spaß und guter Laune!  Egal ob Jung oder Alt\, Anfänger oder Profi – bei uns darf jeder ans Mikro. Wähle deinen Lieblingssong aus allen Genres und zeig uns\, was du drauf hast!  \n \nLass uns gemeinsam singen\, tanzen und feiern!  \nEintritt frei – wir freuen uns auf euch!  \n \n#altesrathauskaarst #kaarst #imherzenvonkaarst #karaoke #karaokeparty
URL:http://www.altesrathaus-kaarst.de/wordpress/event/karaokeabend-open-mic-9/
LOCATION:Altes Rathaus Kaarst\, Rathausstr. 3\, Kaarst\, 41564
CATEGORIES:Events
ATTACH;FMTTYPE=image/jpeg:http://www.altesrathaus-kaarst.de/wordpress/wp-content/uploads/2025/05/AR_Karaokeabend_Monatlich_Web.jpg
ORGANIZER;CN="Altes Rathaus Kaarst":MAILTO:info@altesrathauskaarst.de
END:VEVENT
BEGIN:VEVENT
DTSTART;VALUE=DATE:20260129
DTEND;VALUE=DATE:20260130
DTSTAMP:20260419T181300
CREATED:20251218T184946Z
LAST-MODIFIED:20260105T192542Z
UID:2716-1769644800-1769731199@www.altesrathaus-kaarst.de
SUMMARY:Das große Allgemeinwissen-Quiz im Alten Rathaus
DESCRIPTION:🧠✨ Das große Allgemeinwissen Quiz im Alten Rathaus Kaarst! 🏛️📚 \nSeid ihr echte Allrounder? Am 29. Januar 2026 stellen wir euer Wissen auf die Probe! Von Geschichte über Geografie\, Kultur\, Sport bis hin zu aktuellen Themen – hier zählt Köpfchen\, Teamgeist und ein gutes Gedächtnis. 🤓💡 \n📍 Wo? Altes Rathaus\, Kaarst\n⏰ Wann? 19:00 Uhr \nStellt euer Dreamteam zusammen\, knobelt euch durch spannende Fragen und kämpft um Ruhm\, Ehre und den Quiz-Thron! 🏆🔥 \n👉 Jetzt anmelden und dabei sein! \n#quizabend #allgemeinwissen #kaarst #altesrathauskaarst #imherzenvonkaarst #QUIZZEIT
URL:http://www.altesrathaus-kaarst.de/wordpress/event/das-grosse-allgemeinwissen-quiz-im-alten-rathaus/
LOCATION:Altes Rathaus Kaarst\, Rathausstr. 3\, Kaarst\, 41564
CATEGORIES:Events
ATTACH;FMTTYPE=image/jpeg:http://www.altesrathaus-kaarst.de/wordpress/wp-content/uploads/2025/12/AR_allgemeinwissen_quiz_flyer_WEB.jpg
ORGANIZER;CN="Altes Rathaus Kaarst":MAILTO:info@altesrathauskaarst.de
END:VEVENT
END:VCALENDAR