BEGIN:VCALENDAR
VERSION:2.0
PRODID:-//Altes Rathaus Kaarst - ECPv6.15.20//NONSGML v1.0//EN
CALSCALE:GREGORIAN
METHOD:PUBLISH
X-WR-CALNAME:Altes Rathaus Kaarst
X-ORIGINAL-URL:http://www.altesrathaus-kaarst.de/wordpress
X-WR-CALDESC:Veranstaltungen für Altes Rathaus Kaarst
REFRESH-INTERVAL;VALUE=DURATION:PT1H
X-Robots-Tag:noindex
X-PUBLISHED-TTL:PT1H
BEGIN:VTIMEZONE
TZID:Europe/Berlin
BEGIN:DAYLIGHT
TZOFFSETFROM:+0100
TZOFFSETTO:+0200
TZNAME:CEST
DTSTART:20250330T010000
END:DAYLIGHT
BEGIN:STANDARD
TZOFFSETFROM:+0200
TZOFFSETTO:+0100
TZNAME:CET
DTSTART:20251026T010000
END:STANDARD
BEGIN:DAYLIGHT
TZOFFSETFROM:+0100
TZOFFSETTO:+0200
TZNAME:CEST
DTSTART:20260329T010000
END:DAYLIGHT
BEGIN:STANDARD
TZOFFSETFROM:+0200
TZOFFSETTO:+0100
TZNAME:CET
DTSTART:20261025T010000
END:STANDARD
BEGIN:DAYLIGHT
TZOFFSETFROM:+0100
TZOFFSETTO:+0200
TZNAME:CEST
DTSTART:20270328T010000
END:DAYLIGHT
BEGIN:STANDARD
TZOFFSETFROM:+0200
TZOFFSETTO:+0100
TZNAME:CET
DTSTART:20271031T010000
END:STANDARD
END:VTIMEZONE
BEGIN:VEVENT
DTSTART;VALUE=DATE:20260302
DTEND;VALUE=DATE:20260303
DTSTAMP:20260419T144715
CREATED:20250503T192045Z
LAST-MODIFIED:20251208T182620Z
UID:2318-1772409600-1772495999@www.altesrathaus-kaarst.de
SUMMARY:Karaokeabend - Open Mic
DESCRIPTION:Karaoke-Party im Alten Rathaus Kaarst!  \n \n Wann? Jeden ersten Montag im Monat \n Ab 19 Uhr \n Wo? Altes Rathaus\, Kaarst \n \nMach dich bereit für einen unvergesslichen Abend voller Musik\, Spaß und guter Laune!  Egal ob Jung oder Alt\, Anfänger oder Profi – bei uns darf jeder ans Mikro. Wähle deinen Lieblingssong aus allen Genres und zeig uns\, was du drauf hast!  \n \nLass uns gemeinsam singen\, tanzen und feiern!  \nEintritt frei – wir freuen uns auf euch!  \n \n#altesrathauskaarst #kaarst #imherzenvonkaarst #karaoke #karaokeparty
URL:http://www.altesrathaus-kaarst.de/wordpress/event/karaokeabend-open-mic-7/
LOCATION:Altes Rathaus Kaarst\, Rathausstr. 3\, Kaarst\, 41564
CATEGORIES:Events
ATTACH;FMTTYPE=image/jpeg:http://www.altesrathaus-kaarst.de/wordpress/wp-content/uploads/2025/05/AR_Karaokeabend_Monatlich_Web.jpg
ORGANIZER;CN="Altes Rathaus Kaarst":MAILTO:info@altesrathauskaarst.de
END:VEVENT
BEGIN:VEVENT
DTSTART;VALUE=DATE:20260306
DTEND;VALUE=DATE:20260307
DTSTAMP:20260419T144715
CREATED:20251124T192001Z
LAST-MODIFIED:20251219T082511Z
UID:2557-1772755200-1772841599@www.altesrathaus-kaarst.de
SUMMARY:Whisky Tasting
DESCRIPTION:Das perfekte Weihnachtsgeschenk für Genießer \n\nDu suchst ein besonderes Geschenk\, das in Erinnerung bleibt? \n\n\nVerschenke Genuss\, Atmosphäre und Wissen mit einem Whisky Tasting im Alten Rathaus Kaarst!\n\nAm Freitag\, 6. März 2026 ab 19 Uhr erwartet den euch ein stilvoller Abend mit\n\n\n 7 außergewöhnlichen Single Malts\n geführtem Tasting mit Whisky-Experte Felix Hemmer\n Wasser & Brot zur Begleitung\n optionalen Highlights wie Flammkuchen & Whisky-Cocktails\n\n\n\nOb Kenner oder neugieriger Einsteiger – hier geht es um mehr:\nWhisky erleben\, nicht nur trinken.\n\n\n Geschenkidee zu Weihnachten:\n\nEin Erlebnis\, das Vorfreude schenkt und lange nachwirkt – nur 49\,90€ pro Person.\n\n\n\n Altes Rathaus\n Voranmeldung erforderlich\n\n\n\nMach Weihnachten genussvoll. \n#Weihnachtsgeschenk #WhiskyTasting #GenussVerschenken #AltesRathausKaarst #WhiskyLiebe
URL:http://www.altesrathaus-kaarst.de/wordpress/event/whisky-tasting/
LOCATION:Altes Rathaus Kaarst\, Rathausstr. 3\, Kaarst\, 41564
CATEGORIES:Events
ATTACH;FMTTYPE=image/png:http://www.altesrathaus-kaarst.de/wordpress/wp-content/uploads/2025/11/Mockup.png
ORGANIZER;CN="Altes Rathaus Kaarst":MAILTO:info@altesrathauskaarst.de
END:VEVENT
BEGIN:VEVENT
DTSTART;VALUE=DATE:20260312
DTEND;VALUE=DATE:20260313
DTSTAMP:20260419T144715
CREATED:20251204T205008Z
LAST-MODIFIED:20260216T193607Z
UID:2596-1773273600-1773359999@www.altesrathaus-kaarst.de
SUMMARY:Simple Act live im Alten Rathaus
DESCRIPTION:Live-Musik im Alten Rathaus Kaarst! \n\n\nAm Donnerstag\, 12. März ist es wieder soweit: Das Acoustic-Cover-Trio SIMPLE ACT steht bei uns auf der Bühne und bringt die besten Hits in ganz eigener Interpretation mit. Freut euch auf ehrliche\, handgemachte Musik\, viel Leidenschaft und eine Atmosphäre\, die man einfach erlebt haben muss. \n\n\nOb ihr Lust habt\, mit Freunden den Feierabend ausklingen zu lassen\, euch ein Glas Wein oder ein kühles Bier zu gönnen oder einfach tolle Live-Musik zu genießen – dieser Abend ist genau das Richtige.\n\n\n Donnerstag\, 12. März\n Beginn: 19:00 Uhr\n Altes Rathaus Kaarst – live im Herzen der Stadt\n Eintritt frei\n\n\nKommt vorbei\, bringt gute Laune mit und lasst uns zusammen einen unvergesslichen Abend erleben! \n\n\n#altesrathauskaarst #imherzenvonkaarst #livemusik #kaarst #SimpleAct
URL:http://www.altesrathaus-kaarst.de/wordpress/event/simple-act-live-im-alten-rathaus/
LOCATION:Altes Rathaus Kaarst\, Rathausstr. 3\, Kaarst\, 41564
CATEGORIES:Events
ATTACH;FMTTYPE=image/png:http://www.altesrathaus-kaarst.de/wordpress/wp-content/uploads/2025/12/AR_SimpleAct_Maerz2026.png
END:VEVENT
BEGIN:VEVENT
DTSTART;VALUE=DATE:20260315
DTEND;VALUE=DATE:20260316
DTSTAMP:20260419T144715
CREATED:20251110T204133Z
LAST-MODIFIED:20251208T182620Z
UID:2535-1773532800-1773619199@www.altesrathaus-kaarst.de
SUMMARY:Ostermarkt in Kaarst
DESCRIPTION:
URL:http://www.altesrathaus-kaarst.de/wordpress/event/ostermarkt-in-kaarst/
LOCATION:Kaarster Stadtmitte\, Am Neumarkt 1\, Kaarst\, 41564
CATEGORIES:Events
END:VEVENT
BEGIN:VEVENT
DTSTART;VALUE=DATE:20260315
DTEND;VALUE=DATE:20260316
DTSTAMP:20260419T144715
CREATED:20260301T185459Z
LAST-MODIFIED:20260301T185459Z
UID:2778-1773532800-1773619199@www.altesrathaus-kaarst.de
SUMMARY:Immomesse Kaarst
DESCRIPTION: \n🏡 IMMO MESSE KAARST 2026 🏡\n📍 Rathausgalerie | Am Neumarkt 2\n📅 Sonntag\, 15. März | 10–18 Uhr \nZUKUNFT. LEBENSSTIL. ZUHAUSE. \nDie neue Immobilienmesse in Kaarst – kompakt\, regional und auf den Punkt. \nOb Grundstücke\, Bestandsimmobilien\, Planen & Bauen\, Infrastruktur\, Neue Energien\, Handwerk oder Baufinanzierung – hier treffen Sie Experten\, Anbieter und Dienstleister rund um Wohnen\, Bauen und Leben. \n✨ Von Kaarstern für Kaarster\n✨ Aktuelle Trends & smarte Lösungen\n✨ Zukunftsorientierte Wohnkonzepte\n✨ Persönlich\, informativ und nah \nBesuchen Sie uns im Rahmen des Ostermarkts und entdecken Sie neue Möglichkeiten für Ihr Zuhause! \n📞 Infos: 0163 2379397\n📧 messe@immo-kaarst.com \nWir freuen uns auf Sie! \n#ImmomesseKaarst #Kaarst #Bauen #Wohnen #Immobilien #ZukunftGestalten
URL:http://www.altesrathaus-kaarst.de/wordpress/event/immomesse-kaarst/
ATTACH;FMTTYPE=image/png:http://www.altesrathaus-kaarst.de/wordpress/wp-content/uploads/2026/03/Immomesse2026.png
END:VEVENT
BEGIN:VEVENT
DTSTART;VALUE=DATE:20260320
DTEND;VALUE=DATE:20260321
DTSTAMP:20260419T144715
CREATED:20250109T194826Z
LAST-MODIFIED:20260226T215156Z
UID:2124-1773964800-1774051199@www.altesrathaus-kaarst.de
SUMMARY:80er & 90er Party
DESCRIPTION:Am Freitag\, den 20. März 2026 ab 20 Uhr steigt die große 80er/90er-Party im Herzen von Kaarst. Das Alte Rathaus wird zum Retro-Headquarter von Kaarst.\n\n80er/90er-Sound vom Feinsten mit Dj Klaas S.\n\n\n\n Wichtig: Kommt bitte mit passendem Dresscode\, je bunter\, desto besser. \n\n\n\nEintrittskarten gibt es im VVK ab sofort und an der Abendkasse. Es gibt nur eine begrenzte Anzahl.\n\n\n\nWir freuen uns auf euch. Euer Altes-Rathaus-Team.\n\n\n\n#altesrathauskaarst #kaarst #imherzenvonkaarst #80smusic #80er #90s #90er #party
URL:http://www.altesrathaus-kaarst.de/wordpress/event/80er-90er-party/
LOCATION:Altes Rathaus Kaarst\, Rathausstr. 3\, Kaarst\, 41564
CATEGORIES:Events
ATTACH;FMTTYPE=image/jpeg:http://www.altesrathaus-kaarst.de/wordpress/wp-content/uploads/2025/01/AR_80s_Flyer_Kalender.jpg
ORGANIZER;CN="Altes Rathaus Kaarst":MAILTO:info@altesrathauskaarst.de
END:VEVENT
BEGIN:VEVENT
DTSTART;VALUE=DATE:20260323
DTEND;VALUE=DATE:20260324
DTSTAMP:20260419T144715
CREATED:20260222T161130Z
LAST-MODIFIED:20260301T184145Z
UID:2769-1774224000-1774310399@www.altesrathaus-kaarst.de
SUMMARY:Musikerstammtisch im Herzen von Kaarst
DESCRIPTION:Am Montag\, 23.3. um 18 Uhr zu Gast im Alten Rathaus Kaarst.\n\n\nDer Musikerstammtisch lädt alle Musikinteressierten und Musikbegeisterten ein – ganz egal\, ob ihr gerade erst anfangt\, schon Erfahrung habt oder als Profi unterwegs seid. \n\n\nIn besonderer Atmosphäre treffen hier Leidenschaft\, Austausch und neue Ideen aufeinander. Vernetzen\, inspirieren lassen\, gemeinsam über Projekte sprechen oder einfach die Liebe zur Musik teilen – alle sind willkommen! \n\n\n#kaarst #altesrathauskaarst #musikerstammtisch #musikverbindet #imherzenvonkaarst
URL:http://www.altesrathaus-kaarst.de/wordpress/event/musikerstammtisch-im-herzen-von-kaarst/
LOCATION:Altes Rathaus Kaarst\, Rathausstr. 3\, Kaarst\, 41564
CATEGORIES:Events
ATTACH;FMTTYPE=image/jpeg:http://www.altesrathaus-kaarst.de/wordpress/wp-content/uploads/2026/02/AR_Maerz-scaled.jpg
ORGANIZER;CN="Altes Rathaus Kaarst":MAILTO:info@altesrathauskaarst.de
END:VEVENT
BEGIN:VEVENT
DTSTART;VALUE=DATE:20260325
DTEND;VALUE=DATE:20260326
DTSTAMP:20260419T144715
CREATED:20251204T205038Z
LAST-MODIFIED:20260316T201046Z
UID:2598-1774396800-1774483199@www.altesrathaus-kaarst.de
SUMMARY:Blues Kitchen Band
DESCRIPTION:Live-Musik Donnerstag im Herzen von Kaarst! \n\n\nAm Mittwoch\, 25. März ist es wieder so weit – die grandiose Liveband &#8222;BLUES KITCHEN&#8220; rockt das Alte Rathaus Kaarst!  Ein Muss für alle Musikliebhaber!\n\n\n Wo? Altes Rathaus\, Kaarst\n Wann? 19:00 Uhr\n Eintritt? Frei!\n\n\nKommt vorbei\, genießt die Atmosphäre und erlebt handgemachte Live-Musik mitten im Herzen von Kaarst!  Wir freuen uns auf euch!\n\n\n#altesrathauskaarst #livemusic #blueskitchen #kaarstevent #BluesVibes #kostenlosundgut #kaarst #imherzenvonkaarst
URL:http://www.altesrathaus-kaarst.de/wordpress/event/blues-kitchen-band-3/
LOCATION:Altes Rathaus Kaarst\, Rathausstr. 3\, Kaarst\, 41564
CATEGORIES:Events
ATTACH;FMTTYPE=image/png:http://www.altesrathaus-kaarst.de/wordpress/wp-content/uploads/2025/12/Blueskitchen0326.png
ORGANIZER;CN="Altes Rathaus Kaarst":MAILTO:info@altesrathauskaarst.de
END:VEVENT
END:VCALENDAR