BEGIN:VCALENDAR
VERSION:2.0
PRODID:-//Altes Rathaus Kaarst - ECPv6.15.20//NONSGML v1.0//EN
CALSCALE:GREGORIAN
METHOD:PUBLISH
X-ORIGINAL-URL:http://www.altesrathaus-kaarst.de/wordpress
X-WR-CALDESC:Veranstaltungen fÃ¼r Altes Rathaus Kaarst
REFRESH-INTERVAL;VALUE=DURATION:PT1H
X-Robots-Tag:noindex
X-PUBLISHED-TTL:PT1H
BEGIN:VTIMEZONE
TZID:Europe/Berlin
BEGIN:DAYLIGHT
TZOFFSETFROM:+0100
TZOFFSETTO:+0200
TZNAME:CEST
DTSTART:20250330T010000
END:DAYLIGHT
BEGIN:STANDARD
TZOFFSETFROM:+0200
TZOFFSETTO:+0100
TZNAME:CET
DTSTART:20251026T010000
END:STANDARD
BEGIN:DAYLIGHT
TZOFFSETFROM:+0100
TZOFFSETTO:+0200
TZNAME:CEST
DTSTART:20260329T010000
END:DAYLIGHT
BEGIN:STANDARD
TZOFFSETFROM:+0200
TZOFFSETTO:+0100
TZNAME:CET
DTSTART:20261025T010000
END:STANDARD
BEGIN:DAYLIGHT
TZOFFSETFROM:+0100
TZOFFSETTO:+0200
TZNAME:CEST
DTSTART:20270328T010000
END:DAYLIGHT
BEGIN:STANDARD
TZOFFSETFROM:+0200
TZOFFSETTO:+0100
TZNAME:CET
DTSTART:20271031T010000
END:STANDARD
END:VTIMEZONE
BEGIN:VEVENT
DTSTART;VALUE=DATE:20260503
DTEND;VALUE=DATE:20260504
DTSTAMP:20260419T145001
CREATED:20251208T183556Z
LAST-MODIFIED:20251208T204732Z
UID:2616-1777766400-1777852799@www.altesrathaus-kaarst.de
SUMMARY:Stadtfest Bergheim
DESCRIPTION:
URL:http://www.altesrathaus-kaarst.de/wordpress/event/stadtfest-bergheim/
CATEGORIES:Foodstop
ATTACH;FMTTYPE=image/jpeg:http://www.altesrathaus-kaarst.de/wordpress/wp-content/uploads/2025/01/AR_Foodstop_Image.jpg
END:VEVENT
BEGIN:VEVENT
DTSTART;VALUE=DATE:20260503
DTEND;VALUE=DATE:20260504
DTSTAMP:20260419T145001
CREATED:20180209T173243Z
LAST-MODIFIED:20260326T202410Z
UID:1047-1777766400-1777852799@www.altesrathaus-kaarst.de
SUMMARY:KÃ¼ppers Spargelessen im Alten Rathaus
DESCRIPTION:KÃœPPERS SPARGELESSENÂ IM ALTEN RATHAUS\nAM BESTEN DIREKT RESERVIEREN!\nDie folgenden Termine stehen zur Auswahl:\nAn denÂ Sonntagen\, 03.05. und 10.05. jeweils ab 18 Uhr. \nSpeziell fÃ¼r Sie zur Wahl stehen folgende MenÃ¼s: \n\nVorspeise: Spargelcremesuppe\nHauptgang: Frischer KÃ¼ppers-Spargel mit Butter oder Hollandaise\,\ndazu wahlweise roher\, gekochter Schinken oder Schweineschnitzel\nDessert: Frische KÃ¼ppers-Erdbeeren mit kÃ¶stlichem Vanille-Eis\n\nVoranmeldung erforderlich unter â€­0163/2379397â€¬ oder bei uns im Lokal! \nWir freuen uns auf Euch!\nEuer Altes-Rathaus-Team
URL:http://www.altesrathaus-kaarst.de/wordpress/event/kueppers-spargelessen-im-alten-rathaus/
LOCATION:Altes Rathaus Kaarst\, Rathausstr. 3\, Kaarst\, 41564
CATEGORIES:Events
ATTACH;FMTTYPE=image/jpeg:http://www.altesrathaus-kaarst.de/wordpress/wp-content/uploads/2018/02/Kueppers_Spargel_2026_DINA6_Kalender.jpg
ORGANIZER;CN="Altes Rathaus Kaarst":MAILTO:info@altesrathauskaarst.de
END:VEVENT
BEGIN:VEVENT
DTSTART;VALUE=DATE:20260504
DTEND;VALUE=DATE:20260505
DTSTAMP:20260419T145001
CREATED:20250503T191734Z
LAST-MODIFIED:20251208T182619Z
UID:2312-1777852800-1777939199@www.altesrathaus-kaarst.de
SUMMARY:Karaokeabend - Open Mic
DESCRIPTION:Karaoke-Party im Alten Rathaus Kaarst!  \n  \n Wann? Jeden ersten Montag im Monat \n Ab 19 Uhr \n Wo? Altes Rathaus\, Kaarst \n  \nMach dich bereit fÃ¼r einen unvergesslichen Abend voller Musik\, SpaÃŸ und guter Laune!  Egal ob Jung oder Alt\, AnfÃ¤nger oder Profi â€“ bei uns darf jeder ans Mikro. WÃ¤hle deinen Lieblingssong aus allen Genres und zeig uns\, was du drauf hast!  \n  \nLass uns gemeinsam singen\, tanzen und feiern!  \nEintritt frei â€“ wir freuen uns auf euch!  \n  \n#altesrathauskaarst #kaarst #imherzenvonkaarst #karaoke #karaokeparty
URL:http://www.altesrathaus-kaarst.de/wordpress/event/karaokeabend-open-mic-4/
LOCATION:Altes Rathaus Kaarst\, Rathausstr. 3\, Kaarst\, 41564
CATEGORIES:Events
ATTACH;FMTTYPE=image/jpeg:http://www.altesrathaus-kaarst.de/wordpress/wp-content/uploads/2025/05/AR_Karaokeabend_Monatlich_Web.jpg
ORGANIZER;CN="Altes Rathaus Kaarst":MAILTO:info@altesrathauskaarst.de
END:VEVENT
BEGIN:VEVENT
DTSTART;TZID=Europe/Berlin:20260505T080000
DTEND;TZID=Europe/Berlin:20260505T170000
DTSTAMP:20260419T145001
CREATED:20251208T183726Z
LAST-MODIFIED:20251208T204717Z
UID:2618-1777968000-1778000400@www.altesrathaus-kaarst.de
SUMMARY:JÃ¼chen schmeckt
DESCRIPTION:
URL:http://www.altesrathaus-kaarst.de/wordpress/event/juechen-schmeckt/
CATEGORIES:Foodstop
ATTACH;FMTTYPE=image/jpeg:http://www.altesrathaus-kaarst.de/wordpress/wp-content/uploads/2025/01/AR_Foodstop_Image.jpg
END:VEVENT
BEGIN:VEVENT
DTSTART;VALUE=DATE:20260506
DTEND;VALUE=DATE:20260507
DTSTAMP:20260419T145001
CREATED:20251208T183755Z
LAST-MODIFIED:20251208T204659Z
UID:2620-1778025600-1778111999@www.altesrathaus-kaarst.de
SUMMARY:Rommerskirchen
DESCRIPTION:
URL:http://www.altesrathaus-kaarst.de/wordpress/event/rommerskirchen/
CATEGORIES:Foodstop
ATTACH;FMTTYPE=image/jpeg:http://www.altesrathaus-kaarst.de/wordpress/wp-content/uploads/2025/01/AR_Foodstop_Image.jpg
END:VEVENT
BEGIN:VEVENT
DTSTART;VALUE=DATE:20260508
DTEND;VALUE=DATE:20260509
DTSTAMP:20260419T145001
CREATED:20251208T183836Z
LAST-MODIFIED:20251208T204647Z
UID:2622-1778198400-1778284799@www.altesrathaus-kaarst.de
SUMMARY:Streetfood Reuschenberg
DESCRIPTION:
URL:http://www.altesrathaus-kaarst.de/wordpress/event/streetfood-reuschenberg/
CATEGORIES:Foodstop
ATTACH;FMTTYPE=image/jpeg:http://www.altesrathaus-kaarst.de/wordpress/wp-content/uploads/2025/01/AR_Foodstop_Image.jpg
END:VEVENT
BEGIN:VEVENT
DTSTART;VALUE=DATE:20260509
DTEND;VALUE=DATE:20260510
DTSTAMP:20260419T145001
CREATED:20251204T182534Z
LAST-MODIFIED:20251208T182619Z
UID:2588-1778284800-1778371199@www.altesrathaus-kaarst.de
SUMMARY:"Mutti geht tanzen" im Herzen von Kaarst
DESCRIPTION:Infos folgen
URL:http://www.altesrathaus-kaarst.de/wordpress/event/mutti-geht-tanzen-im-herzen-von-kaarst/
LOCATION:Altes Rathaus Kaarst\, Rathausstr. 3\, Kaarst\, 41564
CATEGORIES:Events
ORGANIZER;CN="Altes Rathaus Kaarst":MAILTO:info@altesrathauskaarst.de
END:VEVENT
BEGIN:VEVENT
DTSTART;VALUE=DATE:20260510
DTEND;VALUE=DATE:20260511
DTSTAMP:20260419T145001
CREATED:20250109T200034Z
LAST-MODIFIED:20251208T182619Z
UID:2144-1778371200-1778457599@www.altesrathaus-kaarst.de
SUMMARY:Maimarkt in Kaarst
DESCRIPTION:
URL:http://www.altesrathaus-kaarst.de/wordpress/event/maimarkt-in-kaarst-2/
LOCATION:Kaarst\, Germany
CATEGORIES:Events
END:VEVENT
BEGIN:VEVENT
DTSTART;VALUE=DATE:20260510
DTEND;VALUE=DATE:20260511
DTSTAMP:20260419T145001
CREATED:20251110T202503Z
LAST-MODIFIED:20260326T202430Z
UID:2520-1778371200-1778457599@www.altesrathaus-kaarst.de
SUMMARY:KÃ¼ppers Spargelessen im Alten Rathaus
DESCRIPTION:KÃœPPERS SPARGELESSENÂ IM ALTEN RATHAUS\nAM BESTEN DIREKT RESERVIEREN!\nDie folgenden Termine stehen zur Auswahl:\nAn denÂ Sonntagen\, 03.05. und 10.05. jeweils ab 18 Uhr. \nSpeziell fÃ¼r Sie zur Wahl stehen folgende MenÃ¼s: \n\nVorspeise: Spargelcremesuppe\nHauptgang: Frischer KÃ¼ppers-Spargel mit Butter oder Hollandaise\,\ndazu wahlweise roher\, gekochter Schinken oder Schweineschnitzel\nDessert: Frische KÃ¼ppers-Erdbeeren mit kÃ¶stlichem Vanille-Eis\n\nVoranmeldung erforderlich unter â€­0163/2379397â€¬ oder bei uns im Lokal! \nWir freuen uns auf Euch!\nEuer Altes-Rathaus-Team
URL:http://www.altesrathaus-kaarst.de/wordpress/event/kueppers-spargelessen-im-alten-rathaus-5/
LOCATION:Altes Rathaus Kaarst\, Rathausstr. 3\, Kaarst\, 41564
CATEGORIES:Events
ATTACH;FMTTYPE=image/jpeg:http://www.altesrathaus-kaarst.de/wordpress/wp-content/uploads/2018/02/Kueppers_Spargel_2026_DINA6_Kalender.jpg
ORGANIZER;CN="Altes Rathaus Kaarst":MAILTO:info@altesrathauskaarst.de
END:VEVENT
BEGIN:VEVENT
DTSTART;VALUE=DATE:20260512
DTEND;VALUE=DATE:20260513
DTSTAMP:20260419T145001
CREATED:20251208T183859Z
LAST-MODIFIED:20251208T204630Z
UID:2624-1778544000-1778630399@www.altesrathaus-kaarst.de
SUMMARY:Streetfood BÃ¼derich
DESCRIPTION:
URL:http://www.altesrathaus-kaarst.de/wordpress/event/streetfood-buederich/
CATEGORIES:Foodstop
ATTACH;FMTTYPE=image/jpeg:http://www.altesrathaus-kaarst.de/wordpress/wp-content/uploads/2025/01/AR_Foodstop_Image.jpg
END:VEVENT
BEGIN:VEVENT
DTSTART;VALUE=DATE:20260513
DTEND;VALUE=DATE:20260514
DTSTAMP:20260419T145001
CREATED:20251208T183931Z
LAST-MODIFIED:20251208T204539Z
UID:2626-1778630400-1778716799@www.altesrathaus-kaarst.de
SUMMARY:Streetfood Glehn
DESCRIPTION:
URL:http://www.altesrathaus-kaarst.de/wordpress/event/streetfood-glehn/
CATEGORIES:Foodstop
ATTACH;FMTTYPE=image/jpeg:http://www.altesrathaus-kaarst.de/wordpress/wp-content/uploads/2025/01/AR_Foodstop_Image.jpg
END:VEVENT
BEGIN:VEVENT
DTSTART;VALUE=DATE:20260514
DTEND;VALUE=DATE:20260515
DTSTAMP:20260419T145001
CREATED:20161228T181558Z
LAST-MODIFIED:20251208T182619Z
UID:440-1778716800-1778803199@www.altesrathaus-kaarst.de
SUMMARY:Vatertag im Alten Rathaus
DESCRIPTION:Vatertag im Alten Rathaus Kaarst \n\nAm Donnerstag\, 14. Mai\, wird gefeiert! Kommt vorbei zum Vatertag im Alten Rathaus Kaarst â€“ mit allem\, was das Herz begehrt:\n\n\n\n Leckeres BBQ-Grillen\n Livemusik fÃ¼r beste Stimmung mit der Live-Band &#8222;WHITE SHARK&#8220;\n GroÃŸer Biergarten\n FrÃ¼hschoppen\n HÃ¼pfburg fÃ¼r die Kids â€“ SpaÃŸ fÃ¼r die ganze Familie!\n\n\n\nSchnappt euch eure Freunde\, Familie oder einfach gute Laune und verbringt den Feiertag bei uns im Herzen von Kaarst. Der Eintritt ist frei!\n\n\n\n Altes Rathaus Kaarst\n Start: ab 12:00 Uhr\n\n\n Speichern\, teilen und weitersagen â€“ wir freuen uns auf euch! \n\n\n\n#altesrathauskaarst #imherzenvonkaarst #kaarst #vatertag #Biergarten #grillen2025
URL:http://www.altesrathaus-kaarst.de/wordpress/event/wir-feiern-vatertag-altes-rathaus-kaarst/
LOCATION:Altes Rathaus Kaarst\, Rathausstr. 3\, Kaarst\, 41564
CATEGORIES:Events
ORGANIZER;CN="Altes Rathaus Kaarst":MAILTO:info@altesrathauskaarst.de
END:VEVENT
BEGIN:VEVENT
DTSTART;VALUE=DATE:20260519
DTEND;VALUE=DATE:20260520
DTSTAMP:20260419T145001
CREATED:20251208T184005Z
LAST-MODIFIED:20251208T204525Z
UID:2628-1779148800-1779235199@www.altesrathaus-kaarst.de
SUMMARY:Streetfood StrÃ¼mp
DESCRIPTION:
URL:http://www.altesrathaus-kaarst.de/wordpress/event/streetfood-struemp/
CATEGORIES:Foodstop
ATTACH;FMTTYPE=image/jpeg:http://www.altesrathaus-kaarst.de/wordpress/wp-content/uploads/2025/01/AR_Foodstop_Image.jpg
END:VEVENT
BEGIN:VEVENT
DTSTART;VALUE=DATE:20260520
DTEND;VALUE=DATE:20260521
DTSTAMP:20260419T145001
CREATED:20251208T184039Z
LAST-MODIFIED:20251208T184039Z
UID:2630-1779235200-1779321599@www.altesrathaus-kaarst.de
SUMMARY:Dormagen kÃ¶stlich
DESCRIPTION:
URL:http://www.altesrathaus-kaarst.de/wordpress/event/dormagen-koestlich-2/
CATEGORIES:Foodstop
END:VEVENT
BEGIN:VEVENT
DTSTART;VALUE=DATE:20260521
DTEND;VALUE=DATE:20260522
DTSTAMP:20260419T145001
CREATED:20251208T184103Z
LAST-MODIFIED:20251208T204507Z
UID:2632-1779321600-1779407999@www.altesrathaus-kaarst.de
SUMMARY:Pulheim schmeckt
DESCRIPTION:
URL:http://www.altesrathaus-kaarst.de/wordpress/event/pulheim-schmeckt-2/
CATEGORIES:Foodstop
ATTACH;FMTTYPE=image/jpeg:http://www.altesrathaus-kaarst.de/wordpress/wp-content/uploads/2025/01/AR_Foodstop_Image.jpg
END:VEVENT
BEGIN:VEVENT
DTSTART;VALUE=DATE:20260526
DTEND;VALUE=DATE:20260527
DTSTAMP:20260419T145001
CREATED:20251208T184133Z
LAST-MODIFIED:20251208T204444Z
UID:2634-1779753600-1779839999@www.altesrathaus-kaarst.de
SUMMARY:Kaarst kÃ¶stlich
DESCRIPTION:
URL:http://www.altesrathaus-kaarst.de/wordpress/event/kaarst-koestlich/
CATEGORIES:Foodstop
ATTACH;FMTTYPE=image/jpeg:http://www.altesrathaus-kaarst.de/wordpress/wp-content/uploads/2025/01/AR_Foodstop_Image.jpg
END:VEVENT
BEGIN:VEVENT
DTSTART;VALUE=DATE:20260527
DTEND;VALUE=DATE:20260528
DTSTAMP:20260419T145001
CREATED:20251204T205452Z
LAST-MODIFIED:20260216T194117Z
UID:2602-1779840000-1779926399@www.altesrathaus-kaarst.de
SUMMARY:Simple Act live im Alten Rathaus
DESCRIPTION:Live-Musik im Alten Rathaus Kaarst! \n\n\nAm Donnerstag\, 27. Mai ist es wieder soweit: Das Acoustic-Cover-Trio SIMPLE ACT steht bei uns auf der BÃ¼hne und bringt die besten Hits in ganz eigener Interpretation mit. Freut euch auf ehrliche\, handgemachte Musik\, viel Leidenschaft und eine AtmosphÃ¤re\, die man einfach erlebt haben muss. \n\n\nOb ihr Lust habt\, mit Freunden den Feierabend ausklingen zu lassen\, euch ein Glas Wein oder ein kÃ¼hles Bier zu gÃ¶nnen oder einfach tolle Live-Musik zu genieÃŸen â€“ dieser Abend ist genau das Richtige.\n\n\n Mittwoch\, 27. Mai\n Beginn: 19:00 Uhr\n Altes Rathaus Kaarst â€“ live im Herzen der Stadt\n Eintritt frei\n\n\nKommt vorbei\, bringt gute Laune mit und lasst uns zusammen einen unvergesslichen Abend erleben! \n\n\n#altesrathauskaarst #imherzenvonkaarst #livemusik #kaarst #SimpleAct
URL:http://www.altesrathaus-kaarst.de/wordpress/event/simple-act-live-im-alten-rathaus-3/
LOCATION:Altes Rathaus Kaarst\, Rathausstr. 3\, Kaarst\, 41564
CATEGORIES:Events
ATTACH;FMTTYPE=image/png:http://www.altesrathaus-kaarst.de/wordpress/wp-content/uploads/2025/12/AR_SimpleAct_Mai2026.png
ORGANIZER;CN="Altes Rathaus Kaarst":MAILTO:info@altesrathauskaarst.de
END:VEVENT
BEGIN:VEVENT
DTSTART;VALUE=DATE:20260527
DTEND;VALUE=DATE:20260528
DTSTAMP:20260419T145001
CREATED:20251208T184200Z
LAST-MODIFIED:20251208T204403Z
UID:2636-1779840000-1779926399@www.altesrathaus-kaarst.de
SUMMARY:Streetfood Bedburg
DESCRIPTION:
URL:http://www.altesrathaus-kaarst.de/wordpress/event/streetfood-bedburg/
CATEGORIES:Foodstop
ATTACH;FMTTYPE=image/jpeg:http://www.altesrathaus-kaarst.de/wordpress/wp-content/uploads/2025/01/AR_Foodstop_Image.jpg
END:VEVENT
BEGIN:VEVENT
DTSTART;VALUE=DATE:20260529
DTEND;VALUE=DATE:20260530
DTSTAMP:20260419T145001
CREATED:20251208T184229Z
LAST-MODIFIED:20251208T204349Z
UID:2638-1780012800-1780099199@www.altesrathaus-kaarst.de
SUMMARY:Streetfood Rheydt
DESCRIPTION:
URL:http://www.altesrathaus-kaarst.de/wordpress/event/streetfood-rheydt/
CATEGORIES:Foodstop
ATTACH;FMTTYPE=image/jpeg:http://www.altesrathaus-kaarst.de/wordpress/wp-content/uploads/2025/01/AR_Foodstop_Image.jpg
END:VEVENT
BEGIN:VEVENT
DTSTART;VALUE=DATE:20260530
DTEND;VALUE=DATE:20260531
DTSTAMP:20260419T145001
CREATED:20250109T200456Z
LAST-MODIFIED:20251208T182619Z
UID:2153-1780099200-1780185599@www.altesrathaus-kaarst.de
SUMMARY:Brunnenfest in BÃ¼ttgen
DESCRIPTION:Die Inbetriebnahme der Brunnenlandschaft nach ihrer umfangreiche Sanierung durch den FÃ¶rderverein wurde im Juni 2013 mit einem groÃŸen Brunnenfest gefeiert. Rund 2000 Besucher kamen damals zum Konzert der bekannten KÃ¶lnerÂ Mundartband &#8222;RÃ¤uber&#8220; unter freiem Himmel auf dem Rathausplatz in BÃ¼ttgen. Hieraus hat sich eine Tradition entwickelt\, denn seitdem richtet der Verein jedes Jahr im Juni das Brunnenfest aus. \nMittlerweile hatÂ sich die VeranstaltungÂ von einem reinen Konzert zu einem Familienfest entwickelt. Neben Live-Musik gibt es mehere Attraktionen fÃ¼r Kinder\, auÃŸerdem bietet sich rund um die GetrÃ¤nke- und ImbisstÃ¤nde Gelegenheit zum KlÃ¶nen und gemeinsam SpaÃŸ haben. Das Brunnenfest ist ein fester Termin im Veranstaltungskalender der Stadt Kaarst und Treffpunkt fÃ¼r die BÃ¼rger geworden. \nAm 30. Mai 2026 wird somit das inzwischen 12. Brunnenfest gefeiert. Die Veranstaltung ist ein Fest fÃ¼r die ganze Familie. Los geht es um 15 Uhr und die Besucher kÃ¶nnen sich auf einen kleinen nostalgischen Jahrmarkt freuen mit Kinderkarussell\, HÃ¼pfburg\, SÃ¼ÃŸigkeiten und mehr freuen. FÃ¼r musikalische Unterhaltung sorgt zunÃ¤chst das BundesschÃ¼tzenmusikkorps Kleinenbroich\, am Abend sorgt dann die Partyband &#8222;Die Kleinenbroicher&#8220; fÃ¼r Live-Musik.Â NatÃ¼rlich wird es auch ein vielfÃ¤ltiges Angebot an Essen und GetrÃ¤nken geben. \nDie Ausrichtung des Brunnenfestes ist immer nur durch das freundliche Engagement zahlreicher Unternehmen und Sponsoren aus der Region mÃ¶glich. Mit ihrem gemeinnÃ¼tzigen Beitrag tragen sie auch 2025 wieder zum Gelingen des Brunnenfestes bei.
URL:http://www.altesrathaus-kaarst.de/wordpress/event/brunnenfest-in-buettgen-4/
LOCATION:BÃ¼ttgen
CATEGORIES:Events
END:VEVENT
END:VCALENDAR