BEGIN:VCALENDAR
VERSION:2.0
PRODID:-//Altes Rathaus Kaarst - ECPv6.15.20//NONSGML v1.0//EN
CALSCALE:GREGORIAN
METHOD:PUBLISH
X-ORIGINAL-URL:http://www.altesrathaus-kaarst.de/wordpress
X-WR-CALDESC:Veranstaltungen fĂźr Altes Rathaus Kaarst
REFRESH-INTERVAL;VALUE=DURATION:PT1H
X-Robots-Tag:noindex
X-PUBLISHED-TTL:PT1H
BEGIN:VTIMEZONE
TZID:Europe/Berlin
BEGIN:DAYLIGHT
TZOFFSETFROM:+0100
TZOFFSETTO:+0200
TZNAME:CEST
DTSTART:20250330T010000
END:DAYLIGHT
BEGIN:STANDARD
TZOFFSETFROM:+0200
TZOFFSETTO:+0100
TZNAME:CET
DTSTART:20251026T010000
END:STANDARD
BEGIN:DAYLIGHT
TZOFFSETFROM:+0100
TZOFFSETTO:+0200
TZNAME:CEST
DTSTART:20260329T010000
END:DAYLIGHT
BEGIN:STANDARD
TZOFFSETFROM:+0200
TZOFFSETTO:+0100
TZNAME:CET
DTSTART:20261025T010000
END:STANDARD
BEGIN:DAYLIGHT
TZOFFSETFROM:+0100
TZOFFSETTO:+0200
TZNAME:CEST
DTSTART:20270328T010000
END:DAYLIGHT
BEGIN:STANDARD
TZOFFSETFROM:+0200
TZOFFSETTO:+0100
TZNAME:CET
DTSTART:20271031T010000
END:STANDARD
END:VTIMEZONE
BEGIN:VEVENT
DTSTART;VALUE=DATE:20260601
DTEND;VALUE=DATE:20260602
DTSTAMP:20260419T161946
CREATED:20250503T191652Z
LAST-MODIFIED:20251208T182546Z
UID:2310-1780272000-1780358399@www.altesrathaus-kaarst.de
SUMMARY:Karaokeabend - Open Mic
DESCRIPTION:Karaoke-Party im Alten Rathaus Kaarst!  \n  \n Wann? Jeden ersten Montag im Monat \n Ab 19 Uhr \n Wo? Altes Rathaus\, Kaarst \n  \nMach dich bereit fĂźr einen unvergesslichen Abend voller Musik\, SpaĂ und guter Laune!  Egal ob Jung oder Alt\, AnfĂ¤nger oder Profi â bei uns darf jeder ans Mikro. WĂ¤hle deinen Lieblingssong aus allen Genres und zeig uns\, was du drauf hast!  \n  \nLass uns gemeinsam singen\, tanzen und feiern!  \nEintritt frei â wir freuen uns auf euch!  \n  \n#altesrathauskaarst #kaarst #imherzenvonkaarst #karaoke #karaokeparty
URL:http://www.altesrathaus-kaarst.de/wordpress/event/karaokeabend-open-mic-3/
CATEGORIES:Events
ATTACH;FMTTYPE=image/jpeg:http://www.altesrathaus-kaarst.de/wordpress/wp-content/uploads/2025/05/AR_Karaokeabend_Monatlich_Web.jpg
END:VEVENT
BEGIN:VEVENT
DTSTART;VALUE=DATE:20260603
DTEND;VALUE=DATE:20260604
DTSTAMP:20260419T161946
CREATED:20231222T175103Z
LAST-MODIFIED:20260413T192026Z
UID:1980-1780444800-1780531199@www.altesrathaus-kaarst.de
SUMMARY:Livemusik mit Rock of Ages
DESCRIPTION:Letâs rock\, Kaarst!Am Mittwoch\, den 03. Juni 2026 ist es wieder so weit: ROCK OF AGES bringt das Alte Rathaus zum Beben! Erlebt eine unvergessliche Live-Show in der wohl rockigsten Location der Stadt â mitten im Herzen von Kaarst. Der Sound\, die AtmosphĂ¤re\, die Energie â das dĂźrft Ihr nicht verpassen!Los gehtâs um 19 Uhr\, also kommt frĂźh\, sichert euch die besten PlĂ¤tze und feiert mit uns einen Abend voller Klassiker\, Power und GĂ¤nsehaut-Momente! Wir freuen uns riesig auf euch und einen Abend\, der nachhallt â laut\, lebendig und legendĂ¤r. Euer Team vom Alten Rathaus Kaarst#altesrathauskaarst #kaarst#imherzenvonkaarst #rockofages#livemusik #rockband #kaarstlive \nWeniger anzeigen
URL:http://www.altesrathaus-kaarst.de/wordpress/event/livemusik-mit-rock-of-ages/
LOCATION:Altes Rathaus Kaarst\, Rathausstr. 3\, Kaarst\, 41564
CATEGORIES:Events
ORGANIZER;CN="Altes Rathaus Kaarst":MAILTO:info@altesrathauskaarst.de
END:VEVENT
BEGIN:VEVENT
DTSTART;VALUE=DATE:20260605
DTEND;VALUE=DATE:20260606
DTSTAMP:20260419T161946
CREATED:20251208T184258Z
LAST-MODIFIED:20251208T204334Z
UID:2640-1780617600-1780703999@www.altesrathaus-kaarst.de
SUMMARY:Musicalnacht Rittergut
DESCRIPTION:
URL:http://www.altesrathaus-kaarst.de/wordpress/event/musicalnacht-rittergut/
CATEGORIES:Foodstop
ATTACH;FMTTYPE=image/jpeg:http://www.altesrathaus-kaarst.de/wordpress/wp-content/uploads/2025/01/AR_Foodstop_Image.jpg
END:VEVENT
BEGIN:VEVENT
DTSTART;VALUE=DATE:20260606
DTEND;VALUE=DATE:20260607
DTSTAMP:20260419T161946
CREATED:20251208T184333Z
LAST-MODIFIED:20251208T204315Z
UID:2642-1780704000-1780790399@www.altesrathaus-kaarst.de
SUMMARY:Musicalnacht Rittergut
DESCRIPTION:
URL:http://www.altesrathaus-kaarst.de/wordpress/event/musicalnacht-rittergut-2/
CATEGORIES:Foodstop
ATTACH;FMTTYPE=image/jpeg:http://www.altesrathaus-kaarst.de/wordpress/wp-content/uploads/2025/01/AR_Foodstop_Image.jpg
END:VEVENT
BEGIN:VEVENT
DTSTART;VALUE=DATE:20260609
DTEND;VALUE=DATE:20260610
DTSTAMP:20260419T161946
CREATED:20251208T184404Z
LAST-MODIFIED:20251208T204151Z
UID:2644-1780963200-1781049599@www.altesrathaus-kaarst.de
SUMMARY:JĂźchen schmeckt
DESCRIPTION:
URL:http://www.altesrathaus-kaarst.de/wordpress/event/juechen-schmeckt-2/
CATEGORIES:Foodstop
ATTACH;FMTTYPE=image/jpeg:http://www.altesrathaus-kaarst.de/wordpress/wp-content/uploads/2025/01/AR_Foodstop_Image.jpg
END:VEVENT
BEGIN:VEVENT
DTSTART;VALUE=DATE:20260610
DTEND;VALUE=DATE:20260611
DTSTAMP:20260419T161946
CREATED:20251208T184435Z
LAST-MODIFIED:20251208T204127Z
UID:2646-1781049600-1781135999@www.altesrathaus-kaarst.de
SUMMARY:Dormagen kĂśstlich
DESCRIPTION:
URL:http://www.altesrathaus-kaarst.de/wordpress/event/dormagen-koestlich-3/
CATEGORIES:Foodstop
ATTACH;FMTTYPE=image/jpeg:http://www.altesrathaus-kaarst.de/wordpress/wp-content/uploads/2025/01/AR_Foodstop_Image.jpg
END:VEVENT
BEGIN:VEVENT
DTSTART;VALUE=DATE:20260611
DTEND;VALUE=DATE:20260720
DTSTAMP:20260419T161946
CREATED:20180103T171032Z
LAST-MODIFIED:20251208T182546Z
UID:899-1781136000-1784505599@www.altesrathaus-kaarst.de
SUMMARY:FuĂball-WM 2026 in Kanada\, Mexiko und den USA
DESCRIPTION:Fussball-WM 2026\nPublic Viewing im Herzen von Kaarst! \nDie Endrunde der 23. FuĂball-Weltmeisterschaft vom 11. Juni bis 19. Juli 2026 in Kanada\, Mexiko und den USA \nâ˘ LED-TVâs\nâ˘ GroĂbild-Leinwand\nâ˘ Indoor & Outdoor Bereiche\nâ˘ Eintritt frei \nWir Ăźbertragen auch alle weiteren Spiele der WMÂ LIVE.\nFeiert mit uns! \nWir freuen uns auf Euch.\nEuer Altes Rathaus Team.
URL:http://www.altesrathaus-kaarst.de/wordpress/event/fussball-wm-2018-in-russland/
LOCATION:Altes Rathaus Kaarst\, Rathausstr. 3\, Kaarst\, 41564
CATEGORIES:Events
ATTACH;FMTTYPE=image/jpeg:http://www.altesrathaus-kaarst.de/wordpress/wp-content/uploads/2018/01/wm2026.jpeg
END:VEVENT
BEGIN:VEVENT
DTSTART;VALUE=DATE:20260611
DTEND;VALUE=DATE:20260612
DTSTAMP:20260419T161946
CREATED:20251208T184457Z
LAST-MODIFIED:20251208T204228Z
UID:2648-1781136000-1781222399@www.altesrathaus-kaarst.de
SUMMARY:Streetfood Pulheim
DESCRIPTION:
URL:http://www.altesrathaus-kaarst.de/wordpress/event/streetfood-pulheim/
CATEGORIES:Foodstop
ATTACH;FMTTYPE=image/jpeg:http://www.altesrathaus-kaarst.de/wordpress/wp-content/uploads/2025/01/AR_Foodstop_Image.jpg
END:VEVENT
BEGIN:VEVENT
DTSTART;VALUE=DATE:20260613
DTEND;VALUE=DATE:20260617
DTSTAMP:20260419T161946
CREATED:20161228T182440Z
LAST-MODIFIED:20251208T182546Z
UID:445-1781308800-1781654399@www.altesrathaus-kaarst.de
SUMMARY:SchĂźtzenfest in Kaarst
DESCRIPTION:Wir begrĂźĂen die Kaarster SchĂźtzen!\nSchĂźtzenfest 2026 im Herzen von Kaarst! \nWir feiern mit Euch am FREITAG\,\nab 20 UHR und freiemÂ Eintritt\nNatĂźrlich inklusive tanzbare Musik und DJ mit den besten Kaarster GĂ¤sten und SchĂźtzen!\nEinlass ab 18 Jahren\nWir haben am SAMSTAG\, SONNTAG und MONTAG\nbereits ab 9 UHR geĂśffnet! \nUnser riesenÂ Biergarten ist natĂźrlich die ganze Zeit geĂśffnet!\nWir freuen uns auf Euch.\nEuer Altes Rathaus Team.
URL:http://www.altesrathaus-kaarst.de/wordpress/event/schuetzenfest-in-kaarst-2017/
LOCATION:Altes Rathaus Kaarst\, Rathausstr. 3\, Kaarst\, 41564
CATEGORIES:Events
ATTACH;FMTTYPE=image/jpeg:http://www.altesrathaus-kaarst.de/wordpress/wp-content/uploads/2016/12/Flyer_Schuetzen_2026_kalender.jpg
ORGANIZER;CN="Altes Rathaus Kaarst":MAILTO:info@altesrathauskaarst.de
END:VEVENT
BEGIN:VEVENT
DTSTART;VALUE=DATE:20260616
DTEND;VALUE=DATE:20260617
DTSTAMP:20260419T161946
CREATED:20251208T184536Z
LAST-MODIFIED:20251208T204050Z
UID:2650-1781568000-1781654399@www.altesrathaus-kaarst.de
SUMMARY:Meerbusch (BĂźderich)
DESCRIPTION:
URL:http://www.altesrathaus-kaarst.de/wordpress/event/meerbusch-buederich/
CATEGORIES:Foodstop
ATTACH;FMTTYPE=image/jpeg:http://www.altesrathaus-kaarst.de/wordpress/wp-content/uploads/2025/01/AR_Foodstop_Image.jpg
END:VEVENT
BEGIN:VEVENT
DTSTART;VALUE=DATE:20260617
DTEND;VALUE=DATE:20260618
DTSTAMP:20260419T161946
CREATED:20251208T184605Z
LAST-MODIFIED:20251208T204618Z
UID:2652-1781654400-1781740799@www.altesrathaus-kaarst.de
SUMMARY:Korschenbroich-Kleinenbroich
DESCRIPTION:
URL:http://www.altesrathaus-kaarst.de/wordpress/event/korschenbroich-kleinenbroich/
CATEGORIES:Foodstop
ATTACH;FMTTYPE=image/jpeg:http://www.altesrathaus-kaarst.de/wordpress/wp-content/uploads/2025/01/AR_Foodstop_Image.jpg
END:VEVENT
BEGIN:VEVENT
DTSTART;VALUE=DATE:20260630
DTEND;VALUE=DATE:20260701
DTSTAMP:20260419T161946
CREATED:20251208T184630Z
LAST-MODIFIED:20251208T203945Z
UID:2654-1782777600-1782863999@www.altesrathaus-kaarst.de
SUMMARY:Streetfood Rommerskirchen
DESCRIPTION:
URL:http://www.altesrathaus-kaarst.de/wordpress/event/streetfood-rommerskirchen/
CATEGORIES:Foodstop
ATTACH;FMTTYPE=image/jpeg:http://www.altesrathaus-kaarst.de/wordpress/wp-content/uploads/2025/01/AR_Foodstop_Image.jpg
END:VEVENT
END:VCALENDAR