BEGIN:VCALENDAR
VERSION:2.0
PRODID:-//Altes Rathaus Kaarst - ECPv6.15.20//NONSGML v1.0//EN
CALSCALE:GREGORIAN
METHOD:PUBLISH
X-ORIGINAL-URL:http://www.altesrathaus-kaarst.de/wordpress
X-WR-CALDESC:Veranstaltungen für Altes Rathaus Kaarst
REFRESH-INTERVAL;VALUE=DURATION:PT1H
X-Robots-Tag:noindex
X-PUBLISHED-TTL:PT1H
BEGIN:VTIMEZONE
TZID:Europe/Berlin
BEGIN:DAYLIGHT
TZOFFSETFROM:+0100
TZOFFSETTO:+0200
TZNAME:CEST
DTSTART:20250330T010000
END:DAYLIGHT
BEGIN:STANDARD
TZOFFSETFROM:+0200
TZOFFSETTO:+0100
TZNAME:CET
DTSTART:20251026T010000
END:STANDARD
BEGIN:DAYLIGHT
TZOFFSETFROM:+0100
TZOFFSETTO:+0200
TZNAME:CEST
DTSTART:20260329T010000
END:DAYLIGHT
BEGIN:STANDARD
TZOFFSETFROM:+0200
TZOFFSETTO:+0100
TZNAME:CET
DTSTART:20261025T010000
END:STANDARD
BEGIN:DAYLIGHT
TZOFFSETFROM:+0100
TZOFFSETTO:+0200
TZNAME:CEST
DTSTART:20270328T010000
END:DAYLIGHT
BEGIN:STANDARD
TZOFFSETFROM:+0200
TZOFFSETTO:+0100
TZNAME:CET
DTSTART:20271031T010000
END:STANDARD
END:VTIMEZONE
BEGIN:VEVENT
DTSTART;VALUE=DATE:20260611
DTEND;VALUE=DATE:20260720
DTSTAMP:20260419T175840
CREATED:20180103T171032Z
LAST-MODIFIED:20251208T182546Z
UID:899-1781136000-1784505599@www.altesrathaus-kaarst.de
SUMMARY:Fußball-WM 2026 in Kanada\, Mexiko und den USA
DESCRIPTION:Fussball-WM 2026\nPublic Viewing im Herzen von Kaarst! \nDie Endrunde der 23. Fußball-Weltmeisterschaft vom 11. Juni bis 19. Juli 2026 in Kanada\, Mexiko und den USA \n• LED-TV‘s\n• Großbild-Leinwand\n• Indoor & Outdoor Bereiche\n• Eintritt frei \nWir übertragen auch alle weiteren Spiele der WM LIVE.\nFeiert mit uns! \nWir freuen uns auf Euch.\nEuer Altes Rathaus Team.
URL:http://www.altesrathaus-kaarst.de/wordpress/event/fussball-wm-2018-in-russland/
LOCATION:Altes Rathaus Kaarst\, Rathausstr. 3\, Kaarst\, 41564
CATEGORIES:Events
ATTACH;FMTTYPE=image/jpeg:http://www.altesrathaus-kaarst.de/wordpress/wp-content/uploads/2018/01/wm2026.jpeg
END:VEVENT
BEGIN:VEVENT
DTSTART;VALUE=DATE:20260701
DTEND;VALUE=DATE:20260702
DTSTAMP:20260419T175840
CREATED:20251208T184718Z
LAST-MODIFIED:20251208T203926Z
UID:2656-1782864000-1782950399@www.altesrathaus-kaarst.de
SUMMARY:Streetfood Bedburg
DESCRIPTION:
URL:http://www.altesrathaus-kaarst.de/wordpress/event/streetfood-bedburg-2/
CATEGORIES:Foodstop
ATTACH;FMTTYPE=image/jpeg:http://www.altesrathaus-kaarst.de/wordpress/wp-content/uploads/2025/01/AR_Foodstop_Image.jpg
END:VEVENT
BEGIN:VEVENT
DTSTART;VALUE=DATE:20260702
DTEND;VALUE=DATE:20260703
DTSTAMP:20260419T175841
CREATED:20251124T204619Z
LAST-MODIFIED:20251208T182546Z
UID:2573-1782950400-1783036799@www.altesrathaus-kaarst.de
SUMMARY:Liveband "Blues Kitchen"
DESCRIPTION:Donnerstag\, 2. Juli 2026 ab 19 Uhr
URL:http://www.altesrathaus-kaarst.de/wordpress/event/blues-kitchen-band-2/
LOCATION:Altes Rathaus Kaarst\, Rathausstr. 3\, Kaarst\, 41564
CATEGORIES:Events
ORGANIZER;CN="Altes Rathaus Kaarst":MAILTO:info@altesrathauskaarst.de
END:VEVENT
BEGIN:VEVENT
DTSTART;VALUE=DATE:20260702
DTEND;VALUE=DATE:20260703
DTSTAMP:20260419T175841
CREATED:20251208T184740Z
LAST-MODIFIED:20251208T203859Z
UID:2658-1782950400-1783036799@www.altesrathaus-kaarst.de
SUMMARY:Streetfood Kaarst
DESCRIPTION:
URL:http://www.altesrathaus-kaarst.de/wordpress/event/streetfood-kaarst/
CATEGORIES:Foodstop
ATTACH;FMTTYPE=image/jpeg:http://www.altesrathaus-kaarst.de/wordpress/wp-content/uploads/2025/01/AR_Foodstop_Image.jpg
END:VEVENT
BEGIN:VEVENT
DTSTART;VALUE=DATE:20260704
DTEND;VALUE=DATE:20260705
DTSTAMP:20260419T175841
CREATED:20251204T182356Z
LAST-MODIFIED:20251208T182546Z
UID:2586-1783123200-1783209599@www.altesrathaus-kaarst.de
SUMMARY:Große Sommerbeach-Party
DESCRIPTION:Infos folgen
URL:http://www.altesrathaus-kaarst.de/wordpress/event/grosse-sommerbeach-party/
LOCATION:Altes Rathaus Kaarst\, Rathausstr. 3\, Kaarst\, 41564
CATEGORIES:Events
ORGANIZER;CN="Altes Rathaus Kaarst":MAILTO:info@altesrathauskaarst.de
END:VEVENT
BEGIN:VEVENT
DTSTART;VALUE=DATE:20260704
DTEND;VALUE=DATE:20260705
DTSTAMP:20260419T175841
CREATED:20251208T184811Z
LAST-MODIFIED:20251208T203826Z
UID:2660-1783123200-1783209599@www.altesrathaus-kaarst.de
SUMMARY:Brings-Konzert Rittergut Birkhof
DESCRIPTION:
URL:http://www.altesrathaus-kaarst.de/wordpress/event/brings-konzert-rittergut-birkhof/
CATEGORIES:Foodstop
ATTACH;FMTTYPE=image/jpeg:http://www.altesrathaus-kaarst.de/wordpress/wp-content/uploads/2025/01/AR_Foodstop_Image.jpg
END:VEVENT
BEGIN:VEVENT
DTSTART;VALUE=DATE:20260706
DTEND;VALUE=DATE:20260707
DTSTAMP:20260419T175841
CREATED:20250503T191602Z
LAST-MODIFIED:20251208T182546Z
UID:2308-1783296000-1783382399@www.altesrathaus-kaarst.de
SUMMARY:Karaokeabend - Open Mic
DESCRIPTION:Karaoke-Party im Alten Rathaus Kaarst! \n\n\n\n Wann? Jeden ersten Montag im Monat\n Ab 19 Uhr\n Wo? Altes Rathaus\, Kaarst\n\n\n\nMach dich bereit für einen unvergesslichen Abend voller Musik\, Spaß und guter Laune!  Egal ob Jung oder Alt\, Anfänger oder Profi – bei uns darf jeder ans Mikro. Wähle deinen Lieblingssong aus allen Genres und zeig uns\, was du drauf hast! \n\n\n\nLass uns gemeinsam singen\, tanzen und feiern! \nEintritt frei – wir freuen uns auf euch! \n\n\n\n#altesrathauskaarst #kaarst #imherzenvonkaarst #karaoke #karaokeparty
URL:http://www.altesrathaus-kaarst.de/wordpress/event/karaokeabend-open-mic-2/
LOCATION:Altes Rathaus Kaarst\, Rathausstr. 3\, Kaarst\, 41564
CATEGORIES:Events
ATTACH;FMTTYPE=image/jpeg:http://www.altesrathaus-kaarst.de/wordpress/wp-content/uploads/2025/05/AR_Karaokeabend_Monatlich_Web.jpg
ORGANIZER;CN="Altes Rathaus Kaarst":MAILTO:info@altesrathauskaarst.de
END:VEVENT
BEGIN:VEVENT
DTSTART;VALUE=DATE:20260707
DTEND;VALUE=DATE:20260708
DTSTAMP:20260419T175841
CREATED:20251208T184837Z
LAST-MODIFIED:20251208T203759Z
UID:2662-1783382400-1783468799@www.altesrathaus-kaarst.de
SUMMARY:Jüchen schmeckt
DESCRIPTION:
URL:http://www.altesrathaus-kaarst.de/wordpress/event/juechen-schmeckt-3/
CATEGORIES:Foodstop
ATTACH;FMTTYPE=image/jpeg:http://www.altesrathaus-kaarst.de/wordpress/wp-content/uploads/2025/01/AR_Foodstop_Image.jpg
END:VEVENT
BEGIN:VEVENT
DTSTART;VALUE=DATE:20260708
DTEND;VALUE=DATE:20260709
DTSTAMP:20260419T175841
CREATED:20251208T184905Z
LAST-MODIFIED:20251208T203734Z
UID:2664-1783468800-1783555199@www.altesrathaus-kaarst.de
SUMMARY:Dormagen köstlich
DESCRIPTION:
URL:http://www.altesrathaus-kaarst.de/wordpress/event/dormagen-koestlich-4/
CATEGORIES:Foodstop
ATTACH;FMTTYPE=image/jpeg:http://www.altesrathaus-kaarst.de/wordpress/wp-content/uploads/2025/01/AR_Foodstop_Image.jpg
END:VEVENT
BEGIN:VEVENT
DTSTART;VALUE=DATE:20260709
DTEND;VALUE=DATE:20260710
DTSTAMP:20260419T175841
CREATED:20251208T184935Z
LAST-MODIFIED:20251208T203635Z
UID:2666-1783555200-1783641599@www.altesrathaus-kaarst.de
SUMMARY:Pulheim schmeckt
DESCRIPTION:
URL:http://www.altesrathaus-kaarst.de/wordpress/event/pulheim-schmeckt-3/
CATEGORIES:Foodstop
ATTACH;FMTTYPE=image/jpeg:http://www.altesrathaus-kaarst.de/wordpress/wp-content/uploads/2025/01/AR_Foodstop_Image.jpg
END:VEVENT
BEGIN:VEVENT
DTSTART;VALUE=DATE:20260711
DTEND;VALUE=DATE:20260712
DTSTAMP:20260419T175841
CREATED:20251208T184958Z
LAST-MODIFIED:20251208T203033Z
UID:2668-1783728000-1783814399@www.altesrathaus-kaarst.de
SUMMARY:Edeka Sommerfest Baesweiler
DESCRIPTION:
URL:http://www.altesrathaus-kaarst.de/wordpress/event/edeka-sommerfest-baesweiler/
CATEGORIES:Foodstop
ATTACH;FMTTYPE=image/jpeg:http://www.altesrathaus-kaarst.de/wordpress/wp-content/uploads/2025/01/AR_Foodstop_Image.jpg
END:VEVENT
BEGIN:VEVENT
DTSTART;VALUE=DATE:20260714
DTEND;VALUE=DATE:20260715
DTSTAMP:20260419T175841
CREATED:20251208T185032Z
LAST-MODIFIED:20251208T203006Z
UID:2671-1783987200-1784073599@www.altesrathaus-kaarst.de
SUMMARY:Büttgen schmeckt
DESCRIPTION:
URL:http://www.altesrathaus-kaarst.de/wordpress/event/buettgen-schmeckt-2/
CATEGORIES:Foodstop
ATTACH;FMTTYPE=image/jpeg:http://www.altesrathaus-kaarst.de/wordpress/wp-content/uploads/2025/01/AR_Foodstop_Image.jpg
END:VEVENT
BEGIN:VEVENT
DTSTART;VALUE=DATE:20260715
DTEND;VALUE=DATE:20260716
DTSTAMP:20260419T175841
CREATED:20251208T185102Z
LAST-MODIFIED:20251208T201658Z
UID:2673-1784073600-1784159999@www.altesrathaus-kaarst.de
SUMMARY:Korschenbroich köstlich
DESCRIPTION:
URL:http://www.altesrathaus-kaarst.de/wordpress/event/korschenbroich-koestlich-2/
CATEGORIES:Foodstop
ATTACH;FMTTYPE=image/jpeg:http://www.altesrathaus-kaarst.de/wordpress/wp-content/uploads/2025/01/AR_Foodstop_Image.jpg
END:VEVENT
BEGIN:VEVENT
DTSTART;VALUE=DATE:20260716
DTEND;VALUE=DATE:20260717
DTSTAMP:20260419T175841
CREATED:20251208T185129Z
LAST-MODIFIED:20251208T201517Z
UID:2675-1784160000-1784246399@www.altesrathaus-kaarst.de
SUMMARY:Streetfood Meerbusch-Osterath
DESCRIPTION:
URL:http://www.altesrathaus-kaarst.de/wordpress/event/streetfood-meerbusch-osterath/
CATEGORIES:Foodstop
ATTACH;FMTTYPE=image/jpeg:http://www.altesrathaus-kaarst.de/wordpress/wp-content/uploads/2025/01/AR_Foodstop_Image.jpg
END:VEVENT
END:VCALENDAR