BEGIN:VCALENDAR
VERSION:2.0
PRODID:-//Altes Rathaus Kaarst - ECPv6.15.20//NONSGML v1.0//EN
CALSCALE:GREGORIAN
METHOD:PUBLISH
X-WR-CALNAME:Altes Rathaus Kaarst
X-ORIGINAL-URL:http://www.altesrathaus-kaarst.de/wordpress
X-WR-CALDESC:Veranstaltungen für Altes Rathaus Kaarst
REFRESH-INTERVAL;VALUE=DURATION:PT1H
X-Robots-Tag:noindex
X-PUBLISHED-TTL:PT1H
BEGIN:VTIMEZONE
TZID:Europe/Berlin
BEGIN:DAYLIGHT
TZOFFSETFROM:+0100
TZOFFSETTO:+0200
TZNAME:CEST
DTSTART:20250330T010000
END:DAYLIGHT
BEGIN:STANDARD
TZOFFSETFROM:+0200
TZOFFSETTO:+0100
TZNAME:CET
DTSTART:20251026T010000
END:STANDARD
BEGIN:DAYLIGHT
TZOFFSETFROM:+0100
TZOFFSETTO:+0200
TZNAME:CEST
DTSTART:20260329T010000
END:DAYLIGHT
BEGIN:STANDARD
TZOFFSETFROM:+0200
TZOFFSETTO:+0100
TZNAME:CET
DTSTART:20261025T010000
END:STANDARD
BEGIN:DAYLIGHT
TZOFFSETFROM:+0100
TZOFFSETTO:+0200
TZNAME:CEST
DTSTART:20270328T010000
END:DAYLIGHT
BEGIN:STANDARD
TZOFFSETFROM:+0200
TZOFFSETTO:+0100
TZNAME:CET
DTSTART:20271031T010000
END:STANDARD
END:VTIMEZONE
BEGIN:VEVENT
DTSTART;VALUE=DATE:20260901
DTEND;VALUE=DATE:20260902
DTSTAMP:20260419T210341
CREATED:20251208T190628Z
LAST-MODIFIED:20251208T200914Z
UID:2692-1788220800-1788307199@www.altesrathaus-kaarst.de
SUMMARY:Streetfood Jüchen
DESCRIPTION:
URL:http://www.altesrathaus-kaarst.de/wordpress/event/streetfood-juechen/
CATEGORIES:Foodstop
ATTACH;FMTTYPE=image/jpeg:http://www.altesrathaus-kaarst.de/wordpress/wp-content/uploads/2025/01/AR_Foodstop_Image.jpg
END:VEVENT
BEGIN:VEVENT
DTSTART;VALUE=DATE:20260902
DTEND;VALUE=DATE:20260903
DTSTAMP:20260419T210341
CREATED:20251208T190758Z
LAST-MODIFIED:20251208T200847Z
UID:2694-1788307200-1788393599@www.altesrathaus-kaarst.de
SUMMARY:Korschenbroich köstlich
DESCRIPTION:
URL:http://www.altesrathaus-kaarst.de/wordpress/event/korschenbroich-koestlich-3/
CATEGORIES:Foodstop
ATTACH;FMTTYPE=image/jpeg:http://www.altesrathaus-kaarst.de/wordpress/wp-content/uploads/2025/01/AR_Foodstop_Image.jpg
END:VEVENT
BEGIN:VEVENT
DTSTART;VALUE=DATE:20260903
DTEND;VALUE=DATE:20260904
DTSTAMP:20260419T210341
CREATED:20251208T191014Z
LAST-MODIFIED:20251208T200813Z
UID:2696-1788393600-1788479999@www.altesrathaus-kaarst.de
SUMMARY:Streetfood Pulheim
DESCRIPTION:
URL:http://www.altesrathaus-kaarst.de/wordpress/event/streetfood-pulheim-3/
CATEGORIES:Foodstop
ATTACH;FMTTYPE=image/jpeg:http://www.altesrathaus-kaarst.de/wordpress/wp-content/uploads/2025/01/AR_Foodstop_Image.jpg
END:VEVENT
BEGIN:VEVENT
DTSTART;VALUE=DATE:20260904
DTEND;VALUE=DATE:20260907
DTSTAMP:20260419T210341
CREATED:20170812T185850Z
LAST-MODIFIED:20251208T182546Z
UID:745-1788480000-1788739199@www.altesrathaus-kaarst.de
SUMMARY:Party Total zum Stadtfest
DESCRIPTION:Die große Party zum Stadtfest im Alten Rathaus!\nWir feiern ‘unsere Stadt‘ im Herzen von Kaarst. \nKommt vorbei!\nDer große Partyabend unter geheimen Motto am Samstag inkl. DJ ab 20 Uhr.\nDer Eintritt zur Party ist wie an allen Tagen frei!\nSamstag & Sonntag haben wir bereits ab 11 Uhr geöffnet! \n&#8212;&#8212;&#8212;&#8212;&#8212;&#8212;&#8212;&#8212;&#8211;&#8212;&#8212;&#8212;&#8212;&#8212;&#8212;&#8212;&#8212;&#8211;&#8212;&#8212;&#8212;&#8211;\nEs erwartet euch viel Spaß für Groß und Klein!\n&#8212;&#8212;&#8212;&#8212;&#8212;&#8212;&#8212;&#8212;&#8211;&#8212;&#8212;&#8212;&#8212;&#8212;&#8212;&#8212;&#8212;&#8211;&#8212;&#8212;&#8212;&#8211;\nGroßer Biergarten\nHüpfburg für Kids\nGroßzügige Chillout-Zones\nu.v.m. \n(Programmänderungen vorbehalten)\nWir freuen uns auf euch\, kommt vorbei und feiert mit uns!\nEuer Altes-Rathaus-Team.
URL:http://www.altesrathaus-kaarst.de/wordpress/event/alm-total-2017-2/
LOCATION:Altes Rathaus Kaarst\, Rathausstr. 3\, Kaarst\, 41564
CATEGORIES:Events
ORGANIZER;CN="Altes Rathaus Kaarst":MAILTO:info@altesrathauskaarst.de
END:VEVENT
BEGIN:VEVENT
DTSTART;VALUE=DATE:20260907
DTEND;VALUE=DATE:20260908
DTSTAMP:20260419T210341
CREATED:20241119T195455Z
LAST-MODIFIED:20251208T182545Z
UID:2102-1788739200-1788825599@www.altesrathaus-kaarst.de
SUMMARY:Karaokeabend - Open Mic
DESCRIPTION:Karaoke-Party im Alten Rathaus Kaarst! \n\n\n\n Wann? Jeden ersten Montag im Monat\n Ab 19 Uhr\n Wo? Altes Rathaus\, Kaarst\n\n\n\nMach dich bereit für einen unvergesslichen Abend voller Musik\, Spaß und guter Laune!  Egal ob Jung oder Alt\, Anfänger oder Profi – bei uns darf jeder ans Mikro. Wähle deinen Lieblingssong aus allen Genres und zeig uns\, was du drauf hast! \n\n\n\nLass uns gemeinsam singen\, tanzen und feiern! \nEintritt frei – wir freuen uns auf euch! \n\n\n\n#altesrathauskaarst #kaarst #imherzenvonkaarst #karaoke #karaokeparty
URL:http://www.altesrathaus-kaarst.de/wordpress/event/karaoke/
LOCATION:Altes Rathaus Kaarst\, Rathausstr. 3\, Kaarst\, 41564
CATEGORIES:Events
ATTACH;FMTTYPE=image/jpeg:http://www.altesrathaus-kaarst.de/wordpress/wp-content/uploads/2024/11/Karaoke_Jan25.jpg
END:VEVENT
BEGIN:VEVENT
DTSTART;VALUE=DATE:20260908
DTEND;VALUE=DATE:20260909
DTSTAMP:20260419T210341
CREATED:20251208T191058Z
LAST-MODIFIED:20251208T200632Z
UID:2698-1788825600-1788911999@www.altesrathaus-kaarst.de
SUMMARY:Meerbusch-Lank
DESCRIPTION:
URL:http://www.altesrathaus-kaarst.de/wordpress/event/meerbusch-lank/
CATEGORIES:Foodstop
ATTACH;FMTTYPE=image/jpeg:http://www.altesrathaus-kaarst.de/wordpress/wp-content/uploads/2025/01/AR_Foodstop_Image.jpg
END:VEVENT
BEGIN:VEVENT
DTSTART;VALUE=DATE:20260909
DTEND;VALUE=DATE:20260910
DTSTAMP:20260419T210341
CREATED:20251208T192925Z
LAST-MODIFIED:20251208T200601Z
UID:2707-1788912000-1788998399@www.altesrathaus-kaarst.de
SUMMARY:Dormagen köstlich
DESCRIPTION:
URL:http://www.altesrathaus-kaarst.de/wordpress/event/dormagen-koestlich-6/
CATEGORIES:Foodstop
ATTACH;FMTTYPE=image/jpeg:http://www.altesrathaus-kaarst.de/wordpress/wp-content/uploads/2025/01/AR_Foodstop_Image.jpg
END:VEVENT
BEGIN:VEVENT
DTSTART;VALUE=DATE:20260916
DTEND;VALUE=DATE:20260917
DTSTAMP:20260419T210341
CREATED:20251208T191438Z
LAST-MODIFIED:20251208T194811Z
UID:2700-1789516800-1789603199@www.altesrathaus-kaarst.de
SUMMARY:Kleinenbroich köstlich
DESCRIPTION:
URL:http://www.altesrathaus-kaarst.de/wordpress/event/kleinenbroich-koestlich/
CATEGORIES:Foodstop
ATTACH;FMTTYPE=image/jpeg:http://www.altesrathaus-kaarst.de/wordpress/wp-content/uploads/2025/01/AR_Foodstop_Image.jpg
END:VEVENT
BEGIN:VEVENT
DTSTART;VALUE=DATE:20260917
DTEND;VALUE=DATE:20260918
DTSTAMP:20260419T210341
CREATED:20251204T182206Z
LAST-MODIFIED:20251208T182545Z
UID:2583-1789603200-1789689599@www.altesrathaus-kaarst.de
SUMMARY:White Shark Liveband
DESCRIPTION:Erlebt WHITE SHARK im Herzen von Kaarst im Alten Rathaus\, der Eintritt ist frei. \nBeginn 19 Uhr
URL:http://www.altesrathaus-kaarst.de/wordpress/event/white-shark-liveband/
LOCATION:Altes Rathaus Kaarst\, Rathausstr. 3\, Kaarst\, 41564
CATEGORIES:Events
ORGANIZER;CN="Altes Rathaus Kaarst":MAILTO:info@altesrathauskaarst.de
END:VEVENT
BEGIN:VEVENT
DTSTART;VALUE=DATE:20260919
DTEND;VALUE=DATE:20260920
DTSTAMP:20260419T210341
CREATED:20251208T191535Z
LAST-MODIFIED:20251208T194734Z
UID:2702-1789776000-1789862399@www.altesrathaus-kaarst.de
SUMMARY:Streetfoodmeile Höherweg Düsseldorf
DESCRIPTION:
URL:http://www.altesrathaus-kaarst.de/wordpress/event/streetfoodmeile-hoeherweg-duesseldorf/
CATEGORIES:Foodstop
ATTACH;FMTTYPE=image/jpeg:http://www.altesrathaus-kaarst.de/wordpress/wp-content/uploads/2025/01/AR_Foodstop_Image.jpg
END:VEVENT
BEGIN:VEVENT
DTSTART;VALUE=DATE:20260922
DTEND;VALUE=DATE:20260923
DTSTAMP:20260419T210341
CREATED:20251208T193036Z
LAST-MODIFIED:20251208T194512Z
UID:2711-1790035200-1790121599@www.altesrathaus-kaarst.de
SUMMARY:Kaarst köstlich
DESCRIPTION:
URL:http://www.altesrathaus-kaarst.de/wordpress/event/kaarst-koestlich-4/
CATEGORIES:Foodstop
ATTACH;FMTTYPE=image/jpeg:http://www.altesrathaus-kaarst.de/wordpress/wp-content/uploads/2025/01/AR_Foodstop_Image.jpg
END:VEVENT
BEGIN:VEVENT
DTSTART;VALUE=DATE:20260925
DTEND;VALUE=DATE:20260928
DTSTAMP:20260419T210341
CREATED:20251124T195422Z
LAST-MODIFIED:20251208T182545Z
UID:2562-1790294400-1790553599@www.altesrathaus-kaarst.de
SUMMARY:Oktoberfest im Herzen von Kaarst
DESCRIPTION:🎉 O’zapft is – im November! 🎉Vom 25. bis 27. September 2026 verwandelt sich das Alte Rathaus in unsere ganz eigene Wiesn!🍺 \nFreut euch auf:🎧 DJ-Party bis spät in die Nacht🎸 Live-Musik\, die für echte Wiesn-Stimmung sorgt🍻 Zünftige Drinks\, gute Laune und Gaudi total! \nKommt vorbei\, schnappt euch eure Dirndl & Lederhosen und feiert mit uns das wohl unkonventionellste Oktoberfest des Jahres! 🎊 \n➡️ Save the date: 25.–27.09.2026📍 Altes Rathaus \nWir freuen uns auf euch – Pack ma’s!
URL:http://www.altesrathaus-kaarst.de/wordpress/event/oktoberfest/
LOCATION:Altes Rathaus Kaarst\, Rathausstr. 3\, Kaarst\, 41564
CATEGORIES:Events
ATTACH;FMTTYPE=image/jpeg:http://www.altesrathaus-kaarst.de/wordpress/wp-content/uploads/2025/11/251124_oktoberfest_flyer_dinA6_kalender.jpg
ORGANIZER;CN="Altes Rathaus Kaarst":MAILTO:info@altesrathauskaarst.de
END:VEVENT
END:VCALENDAR