BEGIN:VCALENDAR
VERSION:2.0
PRODID:-//Altes Rathaus Kaarst - ECPv6.15.20//NONSGML v1.0//EN
CALSCALE:GREGORIAN
METHOD:PUBLISH
X-WR-CALNAME:Altes Rathaus Kaarst
X-ORIGINAL-URL:http://www.altesrathaus-kaarst.de/wordpress
X-WR-CALDESC:Veranstaltungen für Altes Rathaus Kaarst
REFRESH-INTERVAL;VALUE=DURATION:PT1H
X-Robots-Tag:noindex
X-PUBLISHED-TTL:PT1H
BEGIN:VTIMEZONE
TZID:Europe/Berlin
BEGIN:DAYLIGHT
TZOFFSETFROM:+0100
TZOFFSETTO:+0200
TZNAME:CEST
DTSTART:20250330T010000
END:DAYLIGHT
BEGIN:STANDARD
TZOFFSETFROM:+0200
TZOFFSETTO:+0100
TZNAME:CET
DTSTART:20251026T010000
END:STANDARD
BEGIN:DAYLIGHT
TZOFFSETFROM:+0100
TZOFFSETTO:+0200
TZNAME:CEST
DTSTART:20260329T010000
END:DAYLIGHT
BEGIN:STANDARD
TZOFFSETFROM:+0200
TZOFFSETTO:+0100
TZNAME:CET
DTSTART:20261025T010000
END:STANDARD
BEGIN:DAYLIGHT
TZOFFSETFROM:+0100
TZOFFSETTO:+0200
TZNAME:CEST
DTSTART:20270328T010000
END:DAYLIGHT
BEGIN:STANDARD
TZOFFSETFROM:+0200
TZOFFSETTO:+0100
TZNAME:CET
DTSTART:20271031T010000
END:STANDARD
END:VTIMEZONE
BEGIN:VEVENT
DTSTART;VALUE=DATE:20261003
DTEND;VALUE=DATE:20261004
DTSTAMP:20260419T224216
CREATED:20251127T115521Z
LAST-MODIFIED:20251208T182545Z
UID:2578-1790985600-1791071999@www.altesrathaus-kaarst.de
SUMMARY:90er Jahre Party zur Wiedervereinigung
DESCRIPTION:Im Alten Rathaus am 3. Oktober ab 20 Uhr steigt die große 90er-Party zur Wiedervereinigung \nim Herzen von Kaarst. Wir lassen die 90er neu aufleben!!! \nEuch erwartet eine bunte Party mit den coolsten Beats & Vibes von damals. \n Wichtig: Kommt bitte mit passendem Dresscode\, je bunter\, desto besser.  \nEintrittskarten gibt es im VVK und an der Abendkasse. Es gibt nur eine begrenzte Anzahl.\nWir freuen uns auf euch. Euer Altes-Rathaus-Team. \n#altesrathauskaarst #kaarst#imherzenvonkaarst #90s #90er #party
URL:http://www.altesrathaus-kaarst.de/wordpress/event/90er-jahre-party-zur-wiedervereinigung/
LOCATION:Altes Rathaus Kaarst\, Rathausstr. 3\, Kaarst\, 41564
CATEGORIES:Events
ATTACH;FMTTYPE=image/jpeg:http://www.altesrathaus-kaarst.de/wordpress/wp-content/uploads/2023/02/251117_AR_90s_Flyer_A6_kalender.jpg
ORGANIZER;CN="Altes Rathaus Kaarst":MAILTO:info@altesrathauskaarst.de
END:VEVENT
BEGIN:VEVENT
DTSTART;VALUE=DATE:20261005
DTEND;VALUE=DATE:20261006
DTSTAMP:20260419T224216
CREATED:20251110T204817Z
LAST-MODIFIED:20251208T182545Z
UID:2537-1791158400-1791244799@www.altesrathaus-kaarst.de
SUMMARY:Karaokeabend – Open Mic
DESCRIPTION:Karaoke-Party im Alten Rathaus Kaarst!  \n \n Wann? Jeden ersten Montag im Monat \n Ab 19 Uhr \n Wo? Altes Rathaus\, Kaarst \n \nMach dich bereit für einen unvergesslichen Abend voller Musik\, Spaß und guter Laune!  Egal ob Jung oder Alt\, Anfänger oder Profi – bei uns darf jeder ans Mikro. Wähle deinen Lieblingssong aus allen Genres und zeig uns\, was du drauf hast!  \n \nLass uns gemeinsam singen\, tanzen und feiern!  \nEintritt frei – wir freuen uns auf euch!  \n \n#altesrathauskaarst #kaarst #imherzenvonkaarst #karaoke #karaokeparty
URL:http://www.altesrathaus-kaarst.de/wordpress/event/karaokeabend-open-mic-6/
LOCATION:Altes Rathaus Kaarst\, Rathausstr. 3\, Kaarst\, 41564
CATEGORIES:Events
ATTACH;FMTTYPE=image/jpeg:http://www.altesrathaus-kaarst.de/wordpress/wp-content/uploads/2025/05/AR_Karaokeabend_Monatlich_Web.jpg
ORGANIZER;CN="Altes Rathaus Kaarst":MAILTO:info@altesrathauskaarst.de
END:VEVENT
BEGIN:VEVENT
DTSTART;VALUE=DATE:20261008
DTEND;VALUE=DATE:20261009
DTSTAMP:20260419T224216
CREATED:20250317T190352Z
LAST-MODIFIED:20260114T203032Z
UID:2282-1791417600-1791503999@www.altesrathaus-kaarst.de
SUMMARY:Das große Potter Quiz
DESCRIPTION:🧙‍♂️✨ Der große Potter-Quiz-Abend in Kaarst! 📜🏰 \nZum zweiten Mal in Kaarst: Ein magischer Quiz-Abend rund um die Welt von Harry Potter! 🪄✨ Stellt euer Wissen auf die Probe\, lasst euch verzaubern und freut euch auf eine unvergessliche Nacht im Alten Rathaus. \n📅 Wann? 08. Oktober\n📍 Wo? Altes Rathaus\, Kaarst \nDie Plätze sind begrenzt – sichert euch euren Spot! 🏆⚡ Wir freuen uns auf euch! \nEuer Altes Rathaus Team \n#PotterQuiz #kaarst #magiepur #quizabend #zauberschule #altesrathauskaarst
URL:http://www.altesrathaus-kaarst.de/wordpress/event/das-grosse-harry-potter-quiz/
LOCATION:Altes Rathaus Kaarst\, Rathausstr. 3\, Kaarst\, 41564
CATEGORIES:Events
ATTACH;FMTTYPE=image/jpeg:http://www.altesrathaus-kaarst.de/wordpress/wp-content/uploads/2025/03/PotterQuiz_oktober26_kalender.jpg
ORGANIZER;CN="Altes Rathaus Kaarst":MAILTO:info@altesrathauskaarst.de
END:VEVENT
BEGIN:VEVENT
DTSTART;VALUE=DATE:20261031
DTEND;VALUE=DATE:20261101
DTSTAMP:20260419T224216
CREATED:20161228T184504Z
LAST-MODIFIED:20251208T182545Z
UID:449-1793404800-1793491199@www.altesrathaus-kaarst.de
SUMMARY:Halloween Party
DESCRIPTION:Es wird wieder einmal gruselig im Alten Rathaus!\nWir starten um 19 Uhr und freuen uns auf viele gruselige Kostüme! \nLasst mit uns im Herzen von Kaarst Eure Knochen tanzen und besucht am 31. Oktober das Alte Rathaus. Ab 19 Uhr öffnen wir unsere Pforten zur Partygruft. Es erwartet Euch eine tolle schaurige Stimmung. \nWir freuen uns auf Euch.\nEuer Altes-Rathaus-Team.
URL:http://www.altesrathaus-kaarst.de/wordpress/event/spooky-halloween-party/
LOCATION:Altes Rathaus Kaarst\, Rathausstr. 3\, Kaarst\, 41564
CATEGORIES:Events
ATTACH;FMTTYPE=image/jpeg:http://www.altesrathaus-kaarst.de/wordpress/wp-content/uploads/2016/12/AR_Flyer_Halloween_Insta-scaled.jpg
ORGANIZER;CN="Altes Rathaus Kaarst":MAILTO:info@altesrathauskaarst.de
END:VEVENT
END:VCALENDAR